BEGIN:VCALENDAR
VERSION:2.0
PRODID:-//Virginia&#039;s River Realm - ECPv6.15.20//NONSGML v1.0//EN
CALSCALE:GREGORIAN
METHOD:PUBLISH
X-WR-CALNAME:Virginia&#039;s River Realm
X-ORIGINAL-URL:https://www.virginiasriverrealm.com
X-WR-CALDESC:Events for Virginia&#039;s River Realm
REFRESH-INTERVAL;VALUE=DURATION:PT1H
X-Robots-Tag:noindex
X-PUBLISHED-TTL:PT1H
BEGIN:VTIMEZONE
TZID:America/New_York
BEGIN:DAYLIGHT
TZOFFSETFROM:-0500
TZOFFSETTO:-0400
TZNAME:EDT
DTSTART:20250309T070000
END:DAYLIGHT
BEGIN:STANDARD
TZOFFSETFROM:-0400
TZOFFSETTO:-0500
TZNAME:EST
DTSTART:20251102T060000
END:STANDARD
BEGIN:DAYLIGHT
TZOFFSETFROM:-0500
TZOFFSETTO:-0400
TZNAME:EDT
DTSTART:20260308T070000
END:DAYLIGHT
BEGIN:STANDARD
TZOFFSETFROM:-0400
TZOFFSETTO:-0500
TZNAME:EST
DTSTART:20261101T060000
END:STANDARD
BEGIN:DAYLIGHT
TZOFFSETFROM:-0500
TZOFFSETTO:-0400
TZNAME:EDT
DTSTART:20270314T070000
END:DAYLIGHT
BEGIN:STANDARD
TZOFFSETFROM:-0400
TZOFFSETTO:-0500
TZNAME:EST
DTSTART:20271107T060000
END:STANDARD
END:VTIMEZONE
BEGIN:VEVENT
DTSTART;TZID=America/New_York:20260131T153000
DTEND;TZID=America/New_York:20260131T200000
DTSTAMP:20260422T064229
CREATED:20251117T195431Z
LAST-MODIFIED:20251117T195431Z
UID:10016643-1769873400-1769889600@www.virginiasriverrealm.com
SUMMARY:Shrimp & Oyster Dinner
DESCRIPTION:Join us at the Upper Lancaster Volunteer Fire Department for the “All You Can Eat Shrimp & Oyster Dinner” on Saturday\, January 31st\, 2026.  Doors open at 3:30.  Dinner served from 4PM to 7PM.  Last day to purchase tickets in January 19th.  All beverages are included with a ticket.  Children 12 and under eat free.
URL:https://www.virginiasriverrealm.com/ajde_event/shrimp-oyster-dinner/
LOCATION:Upper Lancaster Volunteer Fire Department\, 5170 Mary Ball Road\, Lancaster\, 22503\, United States
CATEGORIES:Children,Foodie Fun
ATTACH;FMTTYPE=image/jpeg:https://www.virginiasriverrealm.com/wp-content/uploads/2025/11/ULVFD-Oyster-Shrimp-Dinner.jpg
GEO:37.780586;-76.518165
X-APPLE-STRUCTURED-LOCATION;VALUE=URI;X-ADDRESS=Upper Lancaster Volunteer Fire Department 5170 Mary Ball Road Lancaster 22503 United States;X-APPLE-RADIUS=500;X-TITLE=5170 Mary Ball Road:geo:-76.518165,37.780586
END:VEVENT
END:VCALENDAR