BEGIN:VCALENDAR
VERSION:2.0
PRODID:-//Virginia&#039;s River Realm - ECPv6.15.20//NONSGML v1.0//EN
CALSCALE:GREGORIAN
METHOD:PUBLISH
X-WR-CALNAME:Virginia&#039;s River Realm
X-ORIGINAL-URL:https://www.virginiasriverrealm.com
X-WR-CALDESC:Events for Virginia&#039;s River Realm
REFRESH-INTERVAL;VALUE=DURATION:PT1H
X-Robots-Tag:noindex
X-PUBLISHED-TTL:PT1H
BEGIN:VTIMEZONE
TZID:America/New_York
BEGIN:DAYLIGHT
TZOFFSETFROM:-0500
TZOFFSETTO:-0400
TZNAME:EDT
DTSTART:20250309T070000
END:DAYLIGHT
BEGIN:STANDARD
TZOFFSETFROM:-0400
TZOFFSETTO:-0500
TZNAME:EST
DTSTART:20251102T060000
END:STANDARD
BEGIN:DAYLIGHT
TZOFFSETFROM:-0500
TZOFFSETTO:-0400
TZNAME:EDT
DTSTART:20260308T070000
END:DAYLIGHT
BEGIN:STANDARD
TZOFFSETFROM:-0400
TZOFFSETTO:-0500
TZNAME:EST
DTSTART:20261101T060000
END:STANDARD
BEGIN:DAYLIGHT
TZOFFSETFROM:-0500
TZOFFSETTO:-0400
TZNAME:EDT
DTSTART:20270314T070000
END:DAYLIGHT
BEGIN:STANDARD
TZOFFSETFROM:-0400
TZOFFSETTO:-0500
TZNAME:EST
DTSTART:20271107T060000
END:STANDARD
END:VTIMEZONE
BEGIN:VEVENT
DTSTART;TZID=America/New_York:20260315T140000
DTEND;TZID=America/New_York:20260315T163000
DTSTAMP:20260421T064700
CREATED:20260311T201505Z
LAST-MODIFIED:20260312T164812Z
UID:10018038-1773583200-1773592200@www.virginiasriverrealm.com
SUMMARY:NNK250 Speaker Series: Dr. Daniel Dreisbach
DESCRIPTION:“The Virginia Declaration of Rights at 250” – Dr. Daniel Dreisbach\nThe Virginia Declaration of Rights\, adopted unanimously by Virginia’s Fifth Convention on June 12\, 1776\, is a seminal\, post-colonial state paper affirming republican principles\, limited government\, and humankind’s natural rights. It is arguably the most imitated of America’s founding documents. Indeed\, it is one of the most influential texts in the American constitutional tradition. Often described as the first modern declaration or bill of rights in America\, it is a distillation of the great principles of liberty and constitutionalism that revolutionary Americans believed were derived from English traditions and\, more generally\, western culture. The Virginia Declaration informed not only core principles of the US Declaration of Independence (1776) but also the language and content of numerous subsequent bills of rights in the respective states and nation. It also made profound innovations to the way Americans viewed religious liberty.
URL:https://www.virginiasriverrealm.com/ajde_event/nnk250-speaker-series-dr-daniel-dreisbach-2/
LOCATION:Bayne Center at Historic Christ Church\, VA\, United States
CATEGORIES:History
ATTACH;FMTTYPE=image/png:https://www.virginiasriverrealm.com/wp-content/uploads/2026/03/Dr-Daniel-Dreisbach-NNK250.png
END:VEVENT
BEGIN:VEVENT
DTSTART;TZID=America/New_York:20260312T080000
DTEND;TZID=America/New_York:20260312T170000
DTSTAMP:20260421T064700
CREATED:20260312T161529Z
LAST-MODIFIED:20260312T165110Z
UID:10018049-1773302400-1773334800@www.virginiasriverrealm.com
SUMMARY:“A Perfect Frenzy”
DESCRIPTION:Author Andrew Lawler speaks on his 2025 book A Perfect Frenzy: A Royal Governor\, His Black Allies\, and the Crisis That Spurred the American Revolution. Wine and cheese reception with author and book signing. Part two of the 2026 Summer Speaker Series. Tickets required.
URL:https://www.virginiasriverrealm.com/ajde_event/a-perfect-frenzy/
LOCATION:Bayne Center at Historic Christ Church\, VA\, United States
CATEGORIES:History
ATTACH;FMTTYPE=image/jpeg:https://www.virginiasriverrealm.com/wp-content/uploads/2026/03/1.-Perfect-Frenzy-Cover.jpg
END:VEVENT
END:VCALENDAR