BEGIN:VCALENDAR
VERSION:2.0
PRODID:-//Virginia&#039;s River Realm - ECPv6.15.20//NONSGML v1.0//EN
CALSCALE:GREGORIAN
METHOD:PUBLISH
X-WR-CALNAME:Virginia&#039;s River Realm
X-ORIGINAL-URL:https://www.virginiasriverrealm.com
X-WR-CALDESC:Events for Virginia&#039;s River Realm
REFRESH-INTERVAL;VALUE=DURATION:PT1H
X-Robots-Tag:noindex
X-PUBLISHED-TTL:PT1H
BEGIN:VTIMEZONE
TZID:America/New_York
BEGIN:DAYLIGHT
TZOFFSETFROM:-0500
TZOFFSETTO:-0400
TZNAME:EDT
DTSTART:20250309T070000
END:DAYLIGHT
BEGIN:STANDARD
TZOFFSETFROM:-0400
TZOFFSETTO:-0500
TZNAME:EST
DTSTART:20251102T060000
END:STANDARD
BEGIN:DAYLIGHT
TZOFFSETFROM:-0500
TZOFFSETTO:-0400
TZNAME:EDT
DTSTART:20260308T070000
END:DAYLIGHT
BEGIN:STANDARD
TZOFFSETFROM:-0400
TZOFFSETTO:-0500
TZNAME:EST
DTSTART:20261101T060000
END:STANDARD
BEGIN:DAYLIGHT
TZOFFSETFROM:-0500
TZOFFSETTO:-0400
TZNAME:EDT
DTSTART:20270314T070000
END:DAYLIGHT
BEGIN:STANDARD
TZOFFSETFROM:-0400
TZOFFSETTO:-0500
TZNAME:EST
DTSTART:20271107T060000
END:STANDARD
END:VTIMEZONE
BEGIN:VEVENT
DTSTART;TZID=America/New_York:20260426T170000
DTEND;TZID=America/New_York:20260426T190000
DTSTAMP:20260422T063739
CREATED:20260416T130329Z
LAST-MODIFIED:20260416T130443Z
UID:10018628-1777222800-1777230000@www.virginiasriverrealm.com
SUMMARY:Paint & Pet a Goat
DESCRIPTION:Join Local Artist Lauren Moye for step-by-step painting at Thru God’s Grace Farm LLC on Sunday\, April 26th from 5-7PM.  Cost is $54 per person.
URL:https://www.virginiasriverrealm.com/ajde_event/paint-pet-a-goat/
LOCATION:God’s Grace Farm\, LLC\, 4291 Soles Lane\, Saluda\, VA\, 23149\, United States
CATEGORIES:Art,Art Classes
ATTACH;FMTTYPE=image/jpeg:https://www.virginiasriverrealm.com/wp-content/uploads/2026/04/93598-e1776344675337.jpg
GEO:37.5746785;-76.6012182
X-APPLE-STRUCTURED-LOCATION;VALUE=URI;X-ADDRESS=God’s Grace Farm LLC 4291 Soles Lane Saluda VA 23149 United States;X-APPLE-RADIUS=500;X-TITLE=4291 Soles Lane:geo:-76.6012182,37.5746785
END:VEVENT
END:VCALENDAR