BEGIN:VCALENDAR
VERSION:2.0
PRODID:-//Virginia&#039;s River Realm - ECPv6.15.20//NONSGML v1.0//EN
CALSCALE:GREGORIAN
METHOD:PUBLISH
X-ORIGINAL-URL:https://www.virginiasriverrealm.com
X-WR-CALDESC:Events for Virginia&#039;s River Realm
REFRESH-INTERVAL;VALUE=DURATION:PT1H
X-Robots-Tag:noindex
X-PUBLISHED-TTL:PT1H
BEGIN:VTIMEZONE
TZID:America/New_York
BEGIN:DAYLIGHT
TZOFFSETFROM:-0500
TZOFFSETTO:-0400
TZNAME:EDT
DTSTART:20250309T070000
END:DAYLIGHT
BEGIN:STANDARD
TZOFFSETFROM:-0400
TZOFFSETTO:-0500
TZNAME:EST
DTSTART:20251102T060000
END:STANDARD
BEGIN:DAYLIGHT
TZOFFSETFROM:-0500
TZOFFSETTO:-0400
TZNAME:EDT
DTSTART:20260308T070000
END:DAYLIGHT
BEGIN:STANDARD
TZOFFSETFROM:-0400
TZOFFSETTO:-0500
TZNAME:EST
DTSTART:20261101T060000
END:STANDARD
BEGIN:DAYLIGHT
TZOFFSETFROM:-0500
TZOFFSETTO:-0400
TZNAME:EDT
DTSTART:20270314T070000
END:DAYLIGHT
BEGIN:STANDARD
TZOFFSETFROM:-0400
TZOFFSETTO:-0500
TZNAME:EST
DTSTART:20271107T060000
END:STANDARD
END:VTIMEZONE
BEGIN:VEVENT
DTSTART;TZID=America/New_York:20260422T100000
DTEND;TZID=America/New_York:20260422T123000
DTSTAMP:20260422T070639
CREATED:20260109T170144Z
LAST-MODIFIED:20260109T170512Z
UID:10016883-1776852000-1776861000@www.virginiasriverrealm.com
SUMMARY:Guided Open Studio Sessions at TAG
DESCRIPTION:TAG Guild Artist Barbara Woodward leads a weekly open studio session with a classroom critique at the end. Open to all mediums. \n$25 drop in or sign up for a package at tapparts.org
URL:https://www.virginiasriverrealm.com/ajde_event/guided-open-studio-sessions-at-tag/2026-04-22/
LOCATION:Tappahannock Artist Guild\, Prince Street\, Tappahannock\, VA\, United States
CATEGORIES:Art,Art Classes
ATTACH;FMTTYPE=image/jpeg:https://www.virginiasriverrealm.com/wp-content/uploads/2026/01/559502612_1403967245070435_8765381277818791555_n.jpg
ORGANIZER;CN="Tappahannock Artist Guild":MAILTO:info@tapparts.org
GEO:37.928764;-76.8584703
X-APPLE-STRUCTURED-LOCATION;VALUE=URI;X-ADDRESS=Tappahannock Artist Guild Prince Street Tappahannock VA United States;X-APPLE-RADIUS=500;X-TITLE=Prince Street:geo:-76.8584703,37.928764
END:VEVENT
BEGIN:VEVENT
DTSTART;TZID=America/New_York:20260424T163000
DTEND;TZID=America/New_York:20260424T220000
DTSTAMP:20260422T070639
CREATED:20260220T173706Z
LAST-MODIFIED:20260319T122106Z
UID:10018348-1777048200-1777068000@www.virginiasriverrealm.com
SUMMARY:Date Night in Tappahannock
DESCRIPTION:Enjoy a lively progressive party in Tappahannock’s Historic District! On select Friday nights\, Date Night in Tappahannock pairs art\, wine\, and dining specials for a fun\, social evening. Stroll between venues\, sip handpicked wines\, savor exclusive menu deals\, and explore the latest TAG art exhibit. \nWhether it’s a romantic night out or a chance to meet new people\, this is the place to be!
URL:https://www.virginiasriverrealm.com/ajde_event/date-night-in-tappahannock-3/2026-04-24/
LOCATION:1710 Tavern\, South Water Lane\, Tappahannock\, VA\, 22560\, United States
ATTACH;FMTTYPE=image/jpeg:https://www.virginiasriverrealm.com/wp-content/uploads/2025/02/White-Minimalist-Aesthetic-Photo-Collage-Instagram-Post-2.jpg
ORGANIZER;CN="Act XII Wine and Provisions":MAILTO:ActXIIwineshop@gmail.com
GEO:37.9285767;-76.8579728
X-APPLE-STRUCTURED-LOCATION;VALUE=URI;X-ADDRESS=1710 Tavern South Water Lane Tappahannock VA 22560 United States;X-APPLE-RADIUS=500;X-TITLE=South Water Lane:geo:-76.8579728,37.9285767
END:VEVENT
BEGIN:VEVENT
DTSTART;TZID=America/New_York:20260429T100000
DTEND;TZID=America/New_York:20260429T123000
DTSTAMP:20260422T070639
CREATED:20260109T170144Z
LAST-MODIFIED:20260109T170512Z
UID:10016884-1777456800-1777465800@www.virginiasriverrealm.com
SUMMARY:Guided Open Studio Sessions at TAG
DESCRIPTION:TAG Guild Artist Barbara Woodward leads a weekly open studio session with a classroom critique at the end. Open to all mediums. \n$25 drop in or sign up for a package at tapparts.org
URL:https://www.virginiasriverrealm.com/ajde_event/guided-open-studio-sessions-at-tag/2026-04-29/
LOCATION:Tappahannock Artist Guild\, Prince Street\, Tappahannock\, VA\, United States
CATEGORIES:Art,Art Classes
ATTACH;FMTTYPE=image/jpeg:https://www.virginiasriverrealm.com/wp-content/uploads/2026/01/559502612_1403967245070435_8765381277818791555_n.jpg
ORGANIZER;CN="Tappahannock Artist Guild":MAILTO:info@tapparts.org
GEO:37.928764;-76.8584703
X-APPLE-STRUCTURED-LOCATION;VALUE=URI;X-ADDRESS=Tappahannock Artist Guild Prince Street Tappahannock VA United States;X-APPLE-RADIUS=500;X-TITLE=Prince Street:geo:-76.8584703,37.928764
END:VEVENT
BEGIN:VEVENT
DTSTART;TZID=America/New_York:20260506T100000
DTEND;TZID=America/New_York:20260506T123000
DTSTAMP:20260422T070639
CREATED:20260109T170144Z
LAST-MODIFIED:20260109T170512Z
UID:10016885-1778061600-1778070600@www.virginiasriverrealm.com
SUMMARY:Guided Open Studio Sessions at TAG
DESCRIPTION:TAG Guild Artist Barbara Woodward leads a weekly open studio session with a classroom critique at the end. Open to all mediums. \n$25 drop in or sign up for a package at tapparts.org
URL:https://www.virginiasriverrealm.com/ajde_event/guided-open-studio-sessions-at-tag/2026-05-06/
LOCATION:Tappahannock Artist Guild\, Prince Street\, Tappahannock\, VA\, United States
CATEGORIES:Art,Art Classes
ATTACH;FMTTYPE=image/jpeg:https://www.virginiasriverrealm.com/wp-content/uploads/2026/01/559502612_1403967245070435_8765381277818791555_n.jpg
ORGANIZER;CN="Tappahannock Artist Guild":MAILTO:info@tapparts.org
GEO:37.928764;-76.8584703
X-APPLE-STRUCTURED-LOCATION;VALUE=URI;X-ADDRESS=Tappahannock Artist Guild Prince Street Tappahannock VA United States;X-APPLE-RADIUS=500;X-TITLE=Prince Street:geo:-76.8584703,37.928764
END:VEVENT
BEGIN:VEVENT
DTSTART;TZID=America/New_York:20260513T100000
DTEND;TZID=America/New_York:20260513T123000
DTSTAMP:20260422T070639
CREATED:20260109T170144Z
LAST-MODIFIED:20260109T170512Z
UID:10016886-1778666400-1778675400@www.virginiasriverrealm.com
SUMMARY:Guided Open Studio Sessions at TAG
DESCRIPTION:TAG Guild Artist Barbara Woodward leads a weekly open studio session with a classroom critique at the end. Open to all mediums. \n$25 drop in or sign up for a package at tapparts.org
URL:https://www.virginiasriverrealm.com/ajde_event/guided-open-studio-sessions-at-tag/2026-05-13/
LOCATION:Tappahannock Artist Guild\, Prince Street\, Tappahannock\, VA\, United States
CATEGORIES:Art,Art Classes
ATTACH;FMTTYPE=image/jpeg:https://www.virginiasriverrealm.com/wp-content/uploads/2026/01/559502612_1403967245070435_8765381277818791555_n.jpg
ORGANIZER;CN="Tappahannock Artist Guild":MAILTO:info@tapparts.org
GEO:37.928764;-76.8584703
X-APPLE-STRUCTURED-LOCATION;VALUE=URI;X-ADDRESS=Tappahannock Artist Guild Prince Street Tappahannock VA United States;X-APPLE-RADIUS=500;X-TITLE=Prince Street:geo:-76.8584703,37.928764
END:VEVENT
BEGIN:VEVENT
DTSTART;TZID=America/New_York:20260520T100000
DTEND;TZID=America/New_York:20260520T123000
DTSTAMP:20260422T070639
CREATED:20260109T170144Z
LAST-MODIFIED:20260109T170512Z
UID:10016887-1779271200-1779280200@www.virginiasriverrealm.com
SUMMARY:Guided Open Studio Sessions at TAG
DESCRIPTION:TAG Guild Artist Barbara Woodward leads a weekly open studio session with a classroom critique at the end. Open to all mediums. \n$25 drop in or sign up for a package at tapparts.org
URL:https://www.virginiasriverrealm.com/ajde_event/guided-open-studio-sessions-at-tag/2026-05-20/
LOCATION:Tappahannock Artist Guild\, Prince Street\, Tappahannock\, VA\, United States
CATEGORIES:Art,Art Classes
ATTACH;FMTTYPE=image/jpeg:https://www.virginiasriverrealm.com/wp-content/uploads/2026/01/559502612_1403967245070435_8765381277818791555_n.jpg
ORGANIZER;CN="Tappahannock Artist Guild":MAILTO:info@tapparts.org
GEO:37.928764;-76.8584703
X-APPLE-STRUCTURED-LOCATION;VALUE=URI;X-ADDRESS=Tappahannock Artist Guild Prince Street Tappahannock VA United States;X-APPLE-RADIUS=500;X-TITLE=Prince Street:geo:-76.8584703,37.928764
END:VEVENT
BEGIN:VEVENT
DTSTART;TZID=America/New_York:20260527T100000
DTEND;TZID=America/New_York:20260527T123000
DTSTAMP:20260422T070639
CREATED:20260109T170144Z
LAST-MODIFIED:20260109T170512Z
UID:10016888-1779876000-1779885000@www.virginiasriverrealm.com
SUMMARY:Guided Open Studio Sessions at TAG
DESCRIPTION:TAG Guild Artist Barbara Woodward leads a weekly open studio session with a classroom critique at the end. Open to all mediums. \n$25 drop in or sign up for a package at tapparts.org
URL:https://www.virginiasriverrealm.com/ajde_event/guided-open-studio-sessions-at-tag/2026-05-27/
LOCATION:Tappahannock Artist Guild\, Prince Street\, Tappahannock\, VA\, United States
CATEGORIES:Art,Art Classes
ATTACH;FMTTYPE=image/jpeg:https://www.virginiasriverrealm.com/wp-content/uploads/2026/01/559502612_1403967245070435_8765381277818791555_n.jpg
ORGANIZER;CN="Tappahannock Artist Guild":MAILTO:info@tapparts.org
GEO:37.928764;-76.8584703
X-APPLE-STRUCTURED-LOCATION;VALUE=URI;X-ADDRESS=Tappahannock Artist Guild Prince Street Tappahannock VA United States;X-APPLE-RADIUS=500;X-TITLE=Prince Street:geo:-76.8584703,37.928764
END:VEVENT
BEGIN:VEVENT
DTSTART;TZID=America/New_York:20260603T100000
DTEND;TZID=America/New_York:20260603T123000
DTSTAMP:20260422T070639
CREATED:20260109T170144Z
LAST-MODIFIED:20260109T170512Z
UID:10016889-1780480800-1780489800@www.virginiasriverrealm.com
SUMMARY:Guided Open Studio Sessions at TAG
DESCRIPTION:TAG Guild Artist Barbara Woodward leads a weekly open studio session with a classroom critique at the end. Open to all mediums. \n$25 drop in or sign up for a package at tapparts.org
URL:https://www.virginiasriverrealm.com/ajde_event/guided-open-studio-sessions-at-tag/2026-06-03/
LOCATION:Tappahannock Artist Guild\, Prince Street\, Tappahannock\, VA\, United States
CATEGORIES:Art,Art Classes
ATTACH;FMTTYPE=image/jpeg:https://www.virginiasriverrealm.com/wp-content/uploads/2026/01/559502612_1403967245070435_8765381277818791555_n.jpg
ORGANIZER;CN="Tappahannock Artist Guild":MAILTO:info@tapparts.org
GEO:37.928764;-76.8584703
X-APPLE-STRUCTURED-LOCATION;VALUE=URI;X-ADDRESS=Tappahannock Artist Guild Prince Street Tappahannock VA United States;X-APPLE-RADIUS=500;X-TITLE=Prince Street:geo:-76.8584703,37.928764
END:VEVENT
BEGIN:VEVENT
DTSTART;TZID=America/New_York:20260610T100000
DTEND;TZID=America/New_York:20260610T123000
DTSTAMP:20260422T070639
CREATED:20260109T170144Z
LAST-MODIFIED:20260109T170512Z
UID:10016890-1781085600-1781094600@www.virginiasriverrealm.com
SUMMARY:Guided Open Studio Sessions at TAG
DESCRIPTION:TAG Guild Artist Barbara Woodward leads a weekly open studio session with a classroom critique at the end. Open to all mediums. \n$25 drop in or sign up for a package at tapparts.org
URL:https://www.virginiasriverrealm.com/ajde_event/guided-open-studio-sessions-at-tag/2026-06-10/
LOCATION:Tappahannock Artist Guild\, Prince Street\, Tappahannock\, VA\, United States
CATEGORIES:Art,Art Classes
ATTACH;FMTTYPE=image/jpeg:https://www.virginiasriverrealm.com/wp-content/uploads/2026/01/559502612_1403967245070435_8765381277818791555_n.jpg
ORGANIZER;CN="Tappahannock Artist Guild":MAILTO:info@tapparts.org
GEO:37.928764;-76.8584703
X-APPLE-STRUCTURED-LOCATION;VALUE=URI;X-ADDRESS=Tappahannock Artist Guild Prince Street Tappahannock VA United States;X-APPLE-RADIUS=500;X-TITLE=Prince Street:geo:-76.8584703,37.928764
END:VEVENT
BEGIN:VEVENT
DTSTART;TZID=America/New_York:20260617T100000
DTEND;TZID=America/New_York:20260617T123000
DTSTAMP:20260422T070639
CREATED:20260109T170144Z
LAST-MODIFIED:20260109T170512Z
UID:10016891-1781690400-1781699400@www.virginiasriverrealm.com
SUMMARY:Guided Open Studio Sessions at TAG
DESCRIPTION:TAG Guild Artist Barbara Woodward leads a weekly open studio session with a classroom critique at the end. Open to all mediums. \n$25 drop in or sign up for a package at tapparts.org
URL:https://www.virginiasriverrealm.com/ajde_event/guided-open-studio-sessions-at-tag/2026-06-17/
LOCATION:Tappahannock Artist Guild\, Prince Street\, Tappahannock\, VA\, United States
CATEGORIES:Art,Art Classes
ATTACH;FMTTYPE=image/jpeg:https://www.virginiasriverrealm.com/wp-content/uploads/2026/01/559502612_1403967245070435_8765381277818791555_n.jpg
ORGANIZER;CN="Tappahannock Artist Guild":MAILTO:info@tapparts.org
GEO:37.928764;-76.8584703
X-APPLE-STRUCTURED-LOCATION;VALUE=URI;X-ADDRESS=Tappahannock Artist Guild Prince Street Tappahannock VA United States;X-APPLE-RADIUS=500;X-TITLE=Prince Street:geo:-76.8584703,37.928764
END:VEVENT
BEGIN:VEVENT
DTSTART;TZID=America/New_York:20260624T100000
DTEND;TZID=America/New_York:20260624T123000
DTSTAMP:20260422T070639
CREATED:20260109T170144Z
LAST-MODIFIED:20260109T170512Z
UID:10016892-1782295200-1782304200@www.virginiasriverrealm.com
SUMMARY:Guided Open Studio Sessions at TAG
DESCRIPTION:TAG Guild Artist Barbara Woodward leads a weekly open studio session with a classroom critique at the end. Open to all mediums. \n$25 drop in or sign up for a package at tapparts.org
URL:https://www.virginiasriverrealm.com/ajde_event/guided-open-studio-sessions-at-tag/2026-06-24/
LOCATION:Tappahannock Artist Guild\, Prince Street\, Tappahannock\, VA\, United States
CATEGORIES:Art,Art Classes
ATTACH;FMTTYPE=image/jpeg:https://www.virginiasriverrealm.com/wp-content/uploads/2026/01/559502612_1403967245070435_8765381277818791555_n.jpg
ORGANIZER;CN="Tappahannock Artist Guild":MAILTO:info@tapparts.org
GEO:37.928764;-76.8584703
X-APPLE-STRUCTURED-LOCATION;VALUE=URI;X-ADDRESS=Tappahannock Artist Guild Prince Street Tappahannock VA United States;X-APPLE-RADIUS=500;X-TITLE=Prince Street:geo:-76.8584703,37.928764
END:VEVENT
BEGIN:VEVENT
DTSTART;TZID=America/New_York:20260701T100000
DTEND;TZID=America/New_York:20260701T123000
DTSTAMP:20260422T070639
CREATED:20260109T170144Z
LAST-MODIFIED:20260109T170512Z
UID:10016893-1782900000-1782909000@www.virginiasriverrealm.com
SUMMARY:Guided Open Studio Sessions at TAG
DESCRIPTION:TAG Guild Artist Barbara Woodward leads a weekly open studio session with a classroom critique at the end. Open to all mediums. \n$25 drop in or sign up for a package at tapparts.org
URL:https://www.virginiasriverrealm.com/ajde_event/guided-open-studio-sessions-at-tag/2026-07-01/
LOCATION:Tappahannock Artist Guild\, Prince Street\, Tappahannock\, VA\, United States
CATEGORIES:Art,Art Classes
ATTACH;FMTTYPE=image/jpeg:https://www.virginiasriverrealm.com/wp-content/uploads/2026/01/559502612_1403967245070435_8765381277818791555_n.jpg
ORGANIZER;CN="Tappahannock Artist Guild":MAILTO:info@tapparts.org
GEO:37.928764;-76.8584703
X-APPLE-STRUCTURED-LOCATION;VALUE=URI;X-ADDRESS=Tappahannock Artist Guild Prince Street Tappahannock VA United States;X-APPLE-RADIUS=500;X-TITLE=Prince Street:geo:-76.8584703,37.928764
END:VEVENT
BEGIN:VEVENT
DTSTART;TZID=America/New_York:20260708T100000
DTEND;TZID=America/New_York:20260708T123000
DTSTAMP:20260422T070639
CREATED:20260109T170144Z
LAST-MODIFIED:20260109T170512Z
UID:10016894-1783504800-1783513800@www.virginiasriverrealm.com
SUMMARY:Guided Open Studio Sessions at TAG
DESCRIPTION:TAG Guild Artist Barbara Woodward leads a weekly open studio session with a classroom critique at the end. Open to all mediums. \n$25 drop in or sign up for a package at tapparts.org
URL:https://www.virginiasriverrealm.com/ajde_event/guided-open-studio-sessions-at-tag/2026-07-08/
LOCATION:Tappahannock Artist Guild\, Prince Street\, Tappahannock\, VA\, United States
CATEGORIES:Art,Art Classes
ATTACH;FMTTYPE=image/jpeg:https://www.virginiasriverrealm.com/wp-content/uploads/2026/01/559502612_1403967245070435_8765381277818791555_n.jpg
ORGANIZER;CN="Tappahannock Artist Guild":MAILTO:info@tapparts.org
GEO:37.928764;-76.8584703
X-APPLE-STRUCTURED-LOCATION;VALUE=URI;X-ADDRESS=Tappahannock Artist Guild Prince Street Tappahannock VA United States;X-APPLE-RADIUS=500;X-TITLE=Prince Street:geo:-76.8584703,37.928764
END:VEVENT
BEGIN:VEVENT
DTSTART;TZID=America/New_York:20260715T100000
DTEND;TZID=America/New_York:20260715T123000
DTSTAMP:20260422T070639
CREATED:20260109T170144Z
LAST-MODIFIED:20260109T170512Z
UID:10016895-1784109600-1784118600@www.virginiasriverrealm.com
SUMMARY:Guided Open Studio Sessions at TAG
DESCRIPTION:TAG Guild Artist Barbara Woodward leads a weekly open studio session with a classroom critique at the end. Open to all mediums. \n$25 drop in or sign up for a package at tapparts.org
URL:https://www.virginiasriverrealm.com/ajde_event/guided-open-studio-sessions-at-tag/2026-07-15/
LOCATION:Tappahannock Artist Guild\, Prince Street\, Tappahannock\, VA\, United States
CATEGORIES:Art,Art Classes
ATTACH;FMTTYPE=image/jpeg:https://www.virginiasriverrealm.com/wp-content/uploads/2026/01/559502612_1403967245070435_8765381277818791555_n.jpg
ORGANIZER;CN="Tappahannock Artist Guild":MAILTO:info@tapparts.org
GEO:37.928764;-76.8584703
X-APPLE-STRUCTURED-LOCATION;VALUE=URI;X-ADDRESS=Tappahannock Artist Guild Prince Street Tappahannock VA United States;X-APPLE-RADIUS=500;X-TITLE=Prince Street:geo:-76.8584703,37.928764
END:VEVENT
BEGIN:VEVENT
DTSTART;TZID=America/New_York:20260722T100000
DTEND;TZID=America/New_York:20260722T123000
DTSTAMP:20260422T070639
CREATED:20260109T170144Z
LAST-MODIFIED:20260109T170512Z
UID:10016896-1784714400-1784723400@www.virginiasriverrealm.com
SUMMARY:Guided Open Studio Sessions at TAG
DESCRIPTION:TAG Guild Artist Barbara Woodward leads a weekly open studio session with a classroom critique at the end. Open to all mediums. \n$25 drop in or sign up for a package at tapparts.org
URL:https://www.virginiasriverrealm.com/ajde_event/guided-open-studio-sessions-at-tag/2026-07-22/
LOCATION:Tappahannock Artist Guild\, Prince Street\, Tappahannock\, VA\, United States
CATEGORIES:Art,Art Classes
ATTACH;FMTTYPE=image/jpeg:https://www.virginiasriverrealm.com/wp-content/uploads/2026/01/559502612_1403967245070435_8765381277818791555_n.jpg
ORGANIZER;CN="Tappahannock Artist Guild":MAILTO:info@tapparts.org
GEO:37.928764;-76.8584703
X-APPLE-STRUCTURED-LOCATION;VALUE=URI;X-ADDRESS=Tappahannock Artist Guild Prince Street Tappahannock VA United States;X-APPLE-RADIUS=500;X-TITLE=Prince Street:geo:-76.8584703,37.928764
END:VEVENT
BEGIN:VEVENT
DTSTART;TZID=America/New_York:20260729T100000
DTEND;TZID=America/New_York:20260729T123000
DTSTAMP:20260422T070639
CREATED:20260109T170144Z
LAST-MODIFIED:20260109T170512Z
UID:10016897-1785319200-1785328200@www.virginiasriverrealm.com
SUMMARY:Guided Open Studio Sessions at TAG
DESCRIPTION:TAG Guild Artist Barbara Woodward leads a weekly open studio session with a classroom critique at the end. Open to all mediums. \n$25 drop in or sign up for a package at tapparts.org
URL:https://www.virginiasriverrealm.com/ajde_event/guided-open-studio-sessions-at-tag/2026-07-29/
LOCATION:Tappahannock Artist Guild\, Prince Street\, Tappahannock\, VA\, United States
CATEGORIES:Art,Art Classes
ATTACH;FMTTYPE=image/jpeg:https://www.virginiasriverrealm.com/wp-content/uploads/2026/01/559502612_1403967245070435_8765381277818791555_n.jpg
ORGANIZER;CN="Tappahannock Artist Guild":MAILTO:info@tapparts.org
GEO:37.928764;-76.8584703
X-APPLE-STRUCTURED-LOCATION;VALUE=URI;X-ADDRESS=Tappahannock Artist Guild Prince Street Tappahannock VA United States;X-APPLE-RADIUS=500;X-TITLE=Prince Street:geo:-76.8584703,37.928764
END:VEVENT
BEGIN:VEVENT
DTSTART;TZID=America/New_York:20260805T100000
DTEND;TZID=America/New_York:20260805T123000
DTSTAMP:20260422T070639
CREATED:20260109T170144Z
LAST-MODIFIED:20260109T170512Z
UID:10016898-1785924000-1785933000@www.virginiasriverrealm.com
SUMMARY:Guided Open Studio Sessions at TAG
DESCRIPTION:TAG Guild Artist Barbara Woodward leads a weekly open studio session with a classroom critique at the end. Open to all mediums. \n$25 drop in or sign up for a package at tapparts.org
URL:https://www.virginiasriverrealm.com/ajde_event/guided-open-studio-sessions-at-tag/2026-08-05/
LOCATION:Tappahannock Artist Guild\, Prince Street\, Tappahannock\, VA\, United States
CATEGORIES:Art,Art Classes
ATTACH;FMTTYPE=image/jpeg:https://www.virginiasriverrealm.com/wp-content/uploads/2026/01/559502612_1403967245070435_8765381277818791555_n.jpg
ORGANIZER;CN="Tappahannock Artist Guild":MAILTO:info@tapparts.org
GEO:37.928764;-76.8584703
X-APPLE-STRUCTURED-LOCATION;VALUE=URI;X-ADDRESS=Tappahannock Artist Guild Prince Street Tappahannock VA United States;X-APPLE-RADIUS=500;X-TITLE=Prince Street:geo:-76.8584703,37.928764
END:VEVENT
END:VCALENDAR