BEGIN:VCALENDAR
VERSION:2.0
PRODID:-//Virginia&#039;s River Realm - ECPv6.15.20//NONSGML v1.0//EN
CALSCALE:GREGORIAN
METHOD:PUBLISH
X-ORIGINAL-URL:https://www.virginiasriverrealm.com
X-WR-CALDESC:Events for Virginia&#039;s River Realm
REFRESH-INTERVAL;VALUE=DURATION:PT1H
X-Robots-Tag:noindex
X-PUBLISHED-TTL:PT1H
BEGIN:VTIMEZONE
TZID:America/New_York
BEGIN:DAYLIGHT
TZOFFSETFROM:-0500
TZOFFSETTO:-0400
TZNAME:EDT
DTSTART:20250309T070000
END:DAYLIGHT
BEGIN:STANDARD
TZOFFSETFROM:-0400
TZOFFSETTO:-0500
TZNAME:EST
DTSTART:20251102T060000
END:STANDARD
BEGIN:DAYLIGHT
TZOFFSETFROM:-0500
TZOFFSETTO:-0400
TZNAME:EDT
DTSTART:20260308T070000
END:DAYLIGHT
BEGIN:STANDARD
TZOFFSETFROM:-0400
TZOFFSETTO:-0500
TZNAME:EST
DTSTART:20261101T060000
END:STANDARD
BEGIN:DAYLIGHT
TZOFFSETFROM:-0500
TZOFFSETTO:-0400
TZNAME:EDT
DTSTART:20270314T070000
END:DAYLIGHT
BEGIN:STANDARD
TZOFFSETFROM:-0400
TZOFFSETTO:-0500
TZNAME:EST
DTSTART:20271107T060000
END:STANDARD
END:VTIMEZONE
BEGIN:VEVENT
DTSTART;TZID=America/New_York:20260415T100000
DTEND;TZID=America/New_York:20260415T123000
DTSTAMP:20260422T083324
CREATED:20260109T170144Z
LAST-MODIFIED:20260109T170512Z
UID:10016882-1776247200-1776256200@www.virginiasriverrealm.com
SUMMARY:Guided Open Studio Sessions at TAG
DESCRIPTION:TAG Guild Artist Barbara Woodward leads a weekly open studio session with a classroom critique at the end. Open to all mediums. \n$25 drop in or sign up for a package at tapparts.org
URL:https://www.virginiasriverrealm.com/ajde_event/guided-open-studio-sessions-at-tag/2026-04-15/
LOCATION:Tappahannock Artist Guild\, Prince Street\, Tappahannock\, VA\, United States
CATEGORIES:Art,Art Classes
ATTACH;FMTTYPE=image/jpeg:https://www.virginiasriverrealm.com/wp-content/uploads/2026/01/559502612_1403967245070435_8765381277818791555_n.jpg
ORGANIZER;CN="Tappahannock Artist Guild":MAILTO:info@tapparts.org
GEO:37.928764;-76.8584703
X-APPLE-STRUCTURED-LOCATION;VALUE=URI;X-ADDRESS=Tappahannock Artist Guild Prince Street Tappahannock VA United States;X-APPLE-RADIUS=500;X-TITLE=Prince Street:geo:-76.8584703,37.928764
END:VEVENT
BEGIN:VEVENT
DTSTART;TZID=America/New_York:20260408T100000
DTEND;TZID=America/New_York:20260408T123000
DTSTAMP:20260422T083324
CREATED:20260109T170144Z
LAST-MODIFIED:20260109T170512Z
UID:10016881-1775642400-1775651400@www.virginiasriverrealm.com
SUMMARY:Guided Open Studio Sessions at TAG
DESCRIPTION:TAG Guild Artist Barbara Woodward leads a weekly open studio session with a classroom critique at the end. Open to all mediums. \n$25 drop in or sign up for a package at tapparts.org
URL:https://www.virginiasriverrealm.com/ajde_event/guided-open-studio-sessions-at-tag/2026-04-08/
LOCATION:Tappahannock Artist Guild\, Prince Street\, Tappahannock\, VA\, United States
CATEGORIES:Art,Art Classes
ATTACH;FMTTYPE=image/jpeg:https://www.virginiasriverrealm.com/wp-content/uploads/2026/01/559502612_1403967245070435_8765381277818791555_n.jpg
ORGANIZER;CN="Tappahannock Artist Guild":MAILTO:info@tapparts.org
GEO:37.928764;-76.8584703
X-APPLE-STRUCTURED-LOCATION;VALUE=URI;X-ADDRESS=Tappahannock Artist Guild Prince Street Tappahannock VA United States;X-APPLE-RADIUS=500;X-TITLE=Prince Street:geo:-76.8584703,37.928764
END:VEVENT
BEGIN:VEVENT
DTSTART;TZID=America/New_York:20260401T100000
DTEND;TZID=America/New_York:20260401T123000
DTSTAMP:20260422T083324
CREATED:20260109T170144Z
LAST-MODIFIED:20260109T170512Z
UID:10016880-1775037600-1775046600@www.virginiasriverrealm.com
SUMMARY:Guided Open Studio Sessions at TAG
DESCRIPTION:TAG Guild Artist Barbara Woodward leads a weekly open studio session with a classroom critique at the end. Open to all mediums. \n$25 drop in or sign up for a package at tapparts.org
URL:https://www.virginiasriverrealm.com/ajde_event/guided-open-studio-sessions-at-tag/2026-04-01/
LOCATION:Tappahannock Artist Guild\, Prince Street\, Tappahannock\, VA\, United States
CATEGORIES:Art,Art Classes
ATTACH;FMTTYPE=image/jpeg:https://www.virginiasriverrealm.com/wp-content/uploads/2026/01/559502612_1403967245070435_8765381277818791555_n.jpg
ORGANIZER;CN="Tappahannock Artist Guild":MAILTO:info@tapparts.org
GEO:37.928764;-76.8584703
X-APPLE-STRUCTURED-LOCATION;VALUE=URI;X-ADDRESS=Tappahannock Artist Guild Prince Street Tappahannock VA United States;X-APPLE-RADIUS=500;X-TITLE=Prince Street:geo:-76.8584703,37.928764
END:VEVENT
BEGIN:VEVENT
DTSTART;TZID=America/New_York:20260325T100000
DTEND;TZID=America/New_York:20260325T123000
DTSTAMP:20260422T083324
CREATED:20260109T170144Z
LAST-MODIFIED:20260109T170512Z
UID:10016879-1774432800-1774441800@www.virginiasriverrealm.com
SUMMARY:Guided Open Studio Sessions at TAG
DESCRIPTION:TAG Guild Artist Barbara Woodward leads a weekly open studio session with a classroom critique at the end. Open to all mediums. \n$25 drop in or sign up for a package at tapparts.org
URL:https://www.virginiasriverrealm.com/ajde_event/guided-open-studio-sessions-at-tag/2026-03-25/
LOCATION:Tappahannock Artist Guild\, Prince Street\, Tappahannock\, VA\, United States
CATEGORIES:Art,Art Classes
ATTACH;FMTTYPE=image/jpeg:https://www.virginiasriverrealm.com/wp-content/uploads/2026/01/559502612_1403967245070435_8765381277818791555_n.jpg
ORGANIZER;CN="Tappahannock Artist Guild":MAILTO:info@tapparts.org
GEO:37.928764;-76.8584703
X-APPLE-STRUCTURED-LOCATION;VALUE=URI;X-ADDRESS=Tappahannock Artist Guild Prince Street Tappahannock VA United States;X-APPLE-RADIUS=500;X-TITLE=Prince Street:geo:-76.8584703,37.928764
END:VEVENT
BEGIN:VEVENT
DTSTART;TZID=America/New_York:20260319T183000
DTEND;TZID=America/New_York:20260319T183000
DTSTAMP:20260422T083324
CREATED:20260317T130919Z
LAST-MODIFIED:20260328T112138Z
UID:10018332-1773945000-1773945000@www.virginiasriverrealm.com
SUMMARY:Sip & Paint: Gift Bag Junk Journals
DESCRIPTION:Transform a Simple Gift Bag into a Springtime Masterpiece!\nMarch 19\, 20266:30 – 8:30 PMTappahannock Art Gallery (TAG)$15 per person\nJoin instructor Terri Creasy for a fun and creative evening where you’ll transform a humble gift bag into a beautiful Spring Junk Journal.\nIn this intuitive\, hands-on workshop\, you’ll explore seasonal colors and vintage-inspired designs while learning the art of fussy cutting to add layers of texture and depth to your pages. By the end of the evening\, you’ll leave with a unique handmade keepsake ready to hold your spring memories — and the creative inspiration to turn everyday items into art.\nPerfect for beginners and experienced makers alike!\nAll materials are provided.\nRegister here:https://tapparts.org/…/03-19-26-sip-create-gift-bag…/\nGrab a friend\, sip\, create\, and enjoy an evening of creativity at TAG!
URL:https://www.virginiasriverrealm.com/ajde_event/sip-paint-gift-bag-junk-journals/
LOCATION:Tappahannock Artist Guild\, Prince Street\, Tappahannock\, VA\, United States
CATEGORIES:Art,Art Classes
ATTACH;FMTTYPE=image/jpeg:https://www.virginiasriverrealm.com/wp-content/uploads/2026/03/646383292_1536471701819988_3797865772921318315_n.jpg
ORGANIZER;CN="Tappahannock Artist Guild":MAILTO:info@tapparts.org
GEO:37.928764;-76.8584703
X-APPLE-STRUCTURED-LOCATION;VALUE=URI;X-ADDRESS=Tappahannock Artist Guild Prince Street Tappahannock VA United States;X-APPLE-RADIUS=500;X-TITLE=Prince Street:geo:-76.8584703,37.928764
END:VEVENT
BEGIN:VEVENT
DTSTART;TZID=America/New_York:20260318T100000
DTEND;TZID=America/New_York:20260318T123000
DTSTAMP:20260422T083324
CREATED:20260109T170144Z
LAST-MODIFIED:20260109T170512Z
UID:10016878-1773828000-1773837000@www.virginiasriverrealm.com
SUMMARY:Guided Open Studio Sessions at TAG
DESCRIPTION:TAG Guild Artist Barbara Woodward leads a weekly open studio session with a classroom critique at the end. Open to all mediums. \n$25 drop in or sign up for a package at tapparts.org
URL:https://www.virginiasriverrealm.com/ajde_event/guided-open-studio-sessions-at-tag/2026-03-18/
LOCATION:Tappahannock Artist Guild\, Prince Street\, Tappahannock\, VA\, United States
CATEGORIES:Art,Art Classes
ATTACH;FMTTYPE=image/jpeg:https://www.virginiasriverrealm.com/wp-content/uploads/2026/01/559502612_1403967245070435_8765381277818791555_n.jpg
ORGANIZER;CN="Tappahannock Artist Guild":MAILTO:info@tapparts.org
GEO:37.928764;-76.8584703
X-APPLE-STRUCTURED-LOCATION;VALUE=URI;X-ADDRESS=Tappahannock Artist Guild Prince Street Tappahannock VA United States;X-APPLE-RADIUS=500;X-TITLE=Prince Street:geo:-76.8584703,37.928764
END:VEVENT
BEGIN:VEVENT
DTSTART;TZID=America/New_York:20260311T100000
DTEND;TZID=America/New_York:20260311T123000
DTSTAMP:20260422T083324
CREATED:20260109T170144Z
LAST-MODIFIED:20260109T170512Z
UID:10016877-1773223200-1773232200@www.virginiasriverrealm.com
SUMMARY:Guided Open Studio Sessions at TAG
DESCRIPTION:TAG Guild Artist Barbara Woodward leads a weekly open studio session with a classroom critique at the end. Open to all mediums. \n$25 drop in or sign up for a package at tapparts.org
URL:https://www.virginiasriverrealm.com/ajde_event/guided-open-studio-sessions-at-tag/2026-03-11/
LOCATION:Tappahannock Artist Guild\, Prince Street\, Tappahannock\, VA\, United States
CATEGORIES:Art,Art Classes
ATTACH;FMTTYPE=image/jpeg:https://www.virginiasriverrealm.com/wp-content/uploads/2026/01/559502612_1403967245070435_8765381277818791555_n.jpg
ORGANIZER;CN="Tappahannock Artist Guild":MAILTO:info@tapparts.org
GEO:37.928764;-76.8584703
X-APPLE-STRUCTURED-LOCATION;VALUE=URI;X-ADDRESS=Tappahannock Artist Guild Prince Street Tappahannock VA United States;X-APPLE-RADIUS=500;X-TITLE=Prince Street:geo:-76.8584703,37.928764
END:VEVENT
BEGIN:VEVENT
DTSTART;TZID=America/New_York:20260310T180000
DTEND;TZID=America/New_York:20260310T200000
DTSTAMP:20260422T083324
CREATED:20260219T141634Z
LAST-MODIFIED:20260219T141634Z
UID:10017534-1773165600-1773172800@www.virginiasriverrealm.com
SUMMARY:TAG's Acrylic Kickstart: Learn the Core Techniques with Robert Placky
DESCRIPTION:Join us for a practical\, hands-on introduction to acrylic painting techniques designed to help you paint with confidence.\n\nIn this 5-session series\, you’ll explore:• Alla prima• Glazing• Impasto• Creative surface building\n\nWhether you’re just getting started or looking to strengthen your foundation\, this class will guide you through core techniques in a supportive studio setting.\n\nDates: March 10\, 17\, 24\, 31 & April 7Time: 6–8 PMLocation: TAG (Tappahannock Art Gallery)\, 200 Prince Street\, TappahannockFee: $200 per person | TAG Members $180Supplies: Supply list provided\n\nSpots are limited — register today and give yourself five evenings of creative growth.\nDetails & Registration:https://tapparts.org/2026/02/17/03-10-26-acrylic-kickstart/
URL:https://www.virginiasriverrealm.com/ajde_event/tags-acrylic-kickstart-learn-the-core-techniques-with-robert-placky/
LOCATION:Tappahannock Artist Guild\, Prince Street\, Tappahannock\, VA\, United States
CATEGORIES:Art,Art Classes
ATTACH;FMTTYPE=image/jpeg:https://www.virginiasriverrealm.com/wp-content/uploads/2026/02/637169620_1522641599869665_4022854490065732776_n.jpg
ORGANIZER;CN="Tappahannock Artist Guild":MAILTO:info@tapparts.org
GEO:37.928764;-76.8584703
X-APPLE-STRUCTURED-LOCATION;VALUE=URI;X-ADDRESS=Tappahannock Artist Guild Prince Street Tappahannock VA United States;X-APPLE-RADIUS=500;X-TITLE=Prince Street:geo:-76.8584703,37.928764
END:VEVENT
BEGIN:VEVENT
DTSTART;TZID=America/New_York:20260304T100000
DTEND;TZID=America/New_York:20260304T123000
DTSTAMP:20260422T083324
CREATED:20260109T170144Z
LAST-MODIFIED:20260109T170512Z
UID:10016876-1772618400-1772627400@www.virginiasriverrealm.com
SUMMARY:Guided Open Studio Sessions at TAG
DESCRIPTION:TAG Guild Artist Barbara Woodward leads a weekly open studio session with a classroom critique at the end. Open to all mediums. \n$25 drop in or sign up for a package at tapparts.org
URL:https://www.virginiasriverrealm.com/ajde_event/guided-open-studio-sessions-at-tag/2026-03-04/
LOCATION:Tappahannock Artist Guild\, Prince Street\, Tappahannock\, VA\, United States
CATEGORIES:Art,Art Classes
ATTACH;FMTTYPE=image/jpeg:https://www.virginiasriverrealm.com/wp-content/uploads/2026/01/559502612_1403967245070435_8765381277818791555_n.jpg
ORGANIZER;CN="Tappahannock Artist Guild":MAILTO:info@tapparts.org
GEO:37.928764;-76.8584703
X-APPLE-STRUCTURED-LOCATION;VALUE=URI;X-ADDRESS=Tappahannock Artist Guild Prince Street Tappahannock VA United States;X-APPLE-RADIUS=500;X-TITLE=Prince Street:geo:-76.8584703,37.928764
END:VEVENT
BEGIN:VEVENT
DTSTART;TZID=America/New_York:20260227T170000
DTEND;TZID=America/New_York:20260227T190000
DTSTAMP:20260422T083324
CREATED:20260219T134818Z
LAST-MODIFIED:20260328T112127Z
UID:10017532-1772211600-1772218800@www.virginiasriverrealm.com
SUMMARY:TAG’s Annual Student Art Show Opening Reception
DESCRIPTION:Come join us for the annual TAG Student Art Show. This highly anticipated event features the artwork of Elementary\, Middle and High School students from Essex County and beyond.  \nEach year\, TAG invites art teachers from around the region to showcase art by their talented students\, and each year\, the students bring talent\, imagination\, and beauty to decorate the walls of the gallery. This year’s show coincides with National Youth Art Month in March.  \nPrepare yourself to be blown away by the artwork of talented kids taught by talented teachers from Aylett Country Day School\, Colonial Beach High School\, Essex High School\, James Cary Intermediate School\, Light of the World\, Northumberland Middle School\, Rappahannock High School\, Tappahannock Elementary School\, and Westmoreland High School.  \nThe public is invited to the Opening Reception as part of Date Night in Tappahannock on February 27th from 5-7pm\, and to enjoy the exhibit during regular opening hours (Thursday\, Friday and Saturday noon – 6pm) until its closing on March 22nd.
URL:https://www.virginiasriverrealm.com/ajde_event/tags-annual-student-art-show-opening-reception/
LOCATION:Tappahannock Artist Guild\, Prince Street\, Tappahannock\, VA\, United States
CATEGORIES:Art,Art Exhibits
ATTACH;FMTTYPE=image/png:https://www.virginiasriverrealm.com/wp-content/uploads/2026/02/Student-Art-Show-2026-1.png
ORGANIZER;CN="Tappahannock Artist Guild":MAILTO:info@tapparts.org
GEO:37.928764;-76.8584703
X-APPLE-STRUCTURED-LOCATION;VALUE=URI;X-ADDRESS=Tappahannock Artist Guild Prince Street Tappahannock VA United States;X-APPLE-RADIUS=500;X-TITLE=Prince Street:geo:-76.8584703,37.928764
END:VEVENT
BEGIN:VEVENT
DTSTART;TZID=America/New_York:20260227T163000
DTEND;TZID=America/New_York:20260227T220000
DTSTAMP:20260422T083324
CREATED:20260220T173706Z
LAST-MODIFIED:20260319T122106Z
UID:10012813-1772209800-1772229600@www.virginiasriverrealm.com
SUMMARY:Date Night in Tappahannock
DESCRIPTION:Enjoy a lively progressive party in Tappahannock’s Historic District! On select Friday nights\, Date Night in Tappahannock pairs art\, wine\, and dining specials for a fun\, social evening. Stroll between venues\, sip handpicked wines\, savor exclusive menu deals\, and explore the latest TAG art exhibit. \nWhether it’s a romantic night out or a chance to meet new people\, this is the place to be!
URL:https://www.virginiasriverrealm.com/ajde_event/date-night-in-tappahannock-3/2026-02-27/2/
LOCATION:1710 Tavern\, South Water Lane\, Tappahannock\, VA\, 22560\, United States
ATTACH;FMTTYPE=image/jpeg:https://www.virginiasriverrealm.com/wp-content/uploads/2025/02/White-Minimalist-Aesthetic-Photo-Collage-Instagram-Post-2.jpg
ORGANIZER;CN="Act XII Wine and Provisions":MAILTO:ActXIIwineshop@gmail.com
GEO:37.9285767;-76.8579728
X-APPLE-STRUCTURED-LOCATION;VALUE=URI;X-ADDRESS=1710 Tavern South Water Lane Tappahannock VA 22560 United States;X-APPLE-RADIUS=500;X-TITLE=South Water Lane:geo:-76.8579728,37.9285767
END:VEVENT
BEGIN:VEVENT
DTSTART;TZID=America/New_York:20260227T163000
DTEND;TZID=America/New_York:20260227T220000
DTSTAMP:20260422T083324
CREATED:20260219T135311Z
LAST-MODIFIED:20260219T135311Z
UID:10017533-1772209800-1772229600@www.virginiasriverrealm.com
SUMMARY:Date Night in Tappahannock
DESCRIPTION:Enjoy a lively progressive party in Tappahannock’s Historic District! On select Friday nights\, Date Night in Tappahannock pairs art\, wine\, and dining specials for a fun\, social evening. Stroll between venues\, sip handpicked wines\, savor exclusive menu deals\, and explore the latest TAG art exhibit. \nWhether it’s a romantic night out or a chance to meet new people\, this is the place to be! \nAct XII  Wine Tasting: 4:30PM – 6:30PM \nTAG Exhibit Opening: 4:30PM – 7PM \n1710 Tavern Happy Hour: 4PM – 6PM and Dinner: 5PM – 10PM
URL:https://www.virginiasriverrealm.com/ajde_event/date-night-in-tappahannock-2/
CATEGORIES:Art,Art Exhibits,Beer/Wine,Foodie Fun
ATTACH;FMTTYPE=image/jpeg:https://www.virginiasriverrealm.com/wp-content/uploads/2026/02/White-Minimalist-Aesthetic-Photo-Collage-Instagram-Post-2.jpg
ORGANIZER;CN="Tappahannock Artist Guild":MAILTO:info@tapparts.org
END:VEVENT
BEGIN:VEVENT
DTSTART;TZID=America/New_York:20260227T080000
DTEND;TZID=America/New_York:20260227T170000
DTSTAMP:20260422T083324
CREATED:20260220T173706Z
LAST-MODIFIED:20260319T122106Z
UID:10018347-1772179200-1772211600@www.virginiasriverrealm.com
SUMMARY:Date Night in Tappahannock
DESCRIPTION:Enjoy a lively progressive party in Tappahannock’s Historic District! On select Friday nights\, Date Night in Tappahannock pairs art\, wine\, and dining specials for a fun\, social evening. Stroll between venues\, sip handpicked wines\, savor exclusive menu deals\, and explore the latest TAG art exhibit. \nWhether it’s a romantic night out or a chance to meet new people\, this is the place to be!
URL:https://www.virginiasriverrealm.com/ajde_event/date-night-in-tappahannock-3/2026-02-27/1/
LOCATION:1710 Tavern\, South Water Lane\, Tappahannock\, VA\, 22560\, United States
ATTACH;FMTTYPE=image/jpeg:https://www.virginiasriverrealm.com/wp-content/uploads/2025/02/White-Minimalist-Aesthetic-Photo-Collage-Instagram-Post-2.jpg
ORGANIZER;CN="Act XII Wine and Provisions":MAILTO:ActXIIwineshop@gmail.com
GEO:37.9285767;-76.8579728
X-APPLE-STRUCTURED-LOCATION;VALUE=URI;X-ADDRESS=1710 Tavern South Water Lane Tappahannock VA 22560 United States;X-APPLE-RADIUS=500;X-TITLE=South Water Lane:geo:-76.8579728,37.9285767
END:VEVENT
BEGIN:VEVENT
DTSTART;TZID=America/New_York:20260225T100000
DTEND;TZID=America/New_York:20260225T123000
DTSTAMP:20260422T083324
CREATED:20260109T170144Z
LAST-MODIFIED:20260109T170512Z
UID:10016875-1772013600-1772022600@www.virginiasriverrealm.com
SUMMARY:Guided Open Studio Sessions at TAG
DESCRIPTION:TAG Guild Artist Barbara Woodward leads a weekly open studio session with a classroom critique at the end. Open to all mediums. \n$25 drop in or sign up for a package at tapparts.org
URL:https://www.virginiasriverrealm.com/ajde_event/guided-open-studio-sessions-at-tag/2026-02-25/
LOCATION:Tappahannock Artist Guild\, Prince Street\, Tappahannock\, VA\, United States
CATEGORIES:Art,Art Classes
ATTACH;FMTTYPE=image/jpeg:https://www.virginiasriverrealm.com/wp-content/uploads/2026/01/559502612_1403967245070435_8765381277818791555_n.jpg
ORGANIZER;CN="Tappahannock Artist Guild":MAILTO:info@tapparts.org
GEO:37.928764;-76.8584703
X-APPLE-STRUCTURED-LOCATION;VALUE=URI;X-ADDRESS=Tappahannock Artist Guild Prince Street Tappahannock VA United States;X-APPLE-RADIUS=500;X-TITLE=Prince Street:geo:-76.8584703,37.928764
END:VEVENT
BEGIN:VEVENT
DTSTART;TZID=America/New_York:20260219T183000
DTEND;TZID=America/New_York:20260219T203000
DTSTAMP:20260422T083324
CREATED:20260109T180752Z
LAST-MODIFIED:20260109T180752Z
UID:10016902-1771525800-1771533000@www.virginiasriverrealm.com
SUMMARY:Sip & Create Small Weaving at TAG
DESCRIPTION:Joyce Crown Wilkins leads a fun session creating small 6′ x 6″ weaving for the upcoming community charitable event\, “Be the Cure.” BYOB to sip as you create. \n$15. Register here: https://checkout.square.site/merchant/X2D0H7R2MCBX8/checkout/KQ7UH5VHVBR6WH4WNORR6PQI
URL:https://www.virginiasriverrealm.com/ajde_event/sip-create-small-weaving-at-tag/
LOCATION:Tappahannock Artist Guild\, Prince Street\, Tappahannock\, VA\, United States
CATEGORIES:Art,Art Classes
ATTACH;FMTTYPE=image/jpeg:https://www.virginiasriverrealm.com/wp-content/uploads/2026/01/559502612_1403967245070435_8765381277818791555_n.jpg
ORGANIZER;CN="Tappahannock Artist Guild":MAILTO:info@tapparts.org
GEO:37.928764;-76.8584703
X-APPLE-STRUCTURED-LOCATION;VALUE=URI;X-ADDRESS=Tappahannock Artist Guild Prince Street Tappahannock VA United States;X-APPLE-RADIUS=500;X-TITLE=Prince Street:geo:-76.8584703,37.928764
END:VEVENT
BEGIN:VEVENT
DTSTART;TZID=America/New_York:20260218T100000
DTEND;TZID=America/New_York:20260218T123000
DTSTAMP:20260422T083324
CREATED:20260109T170144Z
LAST-MODIFIED:20260109T170512Z
UID:10016874-1771408800-1771417800@www.virginiasriverrealm.com
SUMMARY:Guided Open Studio Sessions at TAG
DESCRIPTION:TAG Guild Artist Barbara Woodward leads a weekly open studio session with a classroom critique at the end. Open to all mediums. \n$25 drop in or sign up for a package at tapparts.org
URL:https://www.virginiasriverrealm.com/ajde_event/guided-open-studio-sessions-at-tag/2026-02-18/
LOCATION:Tappahannock Artist Guild\, Prince Street\, Tappahannock\, VA\, United States
CATEGORIES:Art,Art Classes
ATTACH;FMTTYPE=image/jpeg:https://www.virginiasriverrealm.com/wp-content/uploads/2026/01/559502612_1403967245070435_8765381277818791555_n.jpg
ORGANIZER;CN="Tappahannock Artist Guild":MAILTO:info@tapparts.org
GEO:37.928764;-76.8584703
X-APPLE-STRUCTURED-LOCATION;VALUE=URI;X-ADDRESS=Tappahannock Artist Guild Prince Street Tappahannock VA United States;X-APPLE-RADIUS=500;X-TITLE=Prince Street:geo:-76.8584703,37.928764
END:VEVENT
BEGIN:VEVENT
DTSTART;TZID=America/New_York:20260211T100000
DTEND;TZID=America/New_York:20260211T123000
DTSTAMP:20260422T083324
CREATED:20260109T170144Z
LAST-MODIFIED:20260109T170512Z
UID:10016873-1770804000-1770813000@www.virginiasriverrealm.com
SUMMARY:Guided Open Studio Sessions at TAG
DESCRIPTION:TAG Guild Artist Barbara Woodward leads a weekly open studio session with a classroom critique at the end. Open to all mediums. \n$25 drop in or sign up for a package at tapparts.org
URL:https://www.virginiasriverrealm.com/ajde_event/guided-open-studio-sessions-at-tag/2026-02-11/
LOCATION:Tappahannock Artist Guild\, Prince Street\, Tappahannock\, VA\, United States
CATEGORIES:Art,Art Classes
ATTACH;FMTTYPE=image/jpeg:https://www.virginiasriverrealm.com/wp-content/uploads/2026/01/559502612_1403967245070435_8765381277818791555_n.jpg
ORGANIZER;CN="Tappahannock Artist Guild":MAILTO:info@tapparts.org
GEO:37.928764;-76.8584703
X-APPLE-STRUCTURED-LOCATION;VALUE=URI;X-ADDRESS=Tappahannock Artist Guild Prince Street Tappahannock VA United States;X-APPLE-RADIUS=500;X-TITLE=Prince Street:geo:-76.8584703,37.928764
END:VEVENT
BEGIN:VEVENT
DTSTART;TZID=America/New_York:20260207T100000
DTEND;TZID=America/New_York:20260207T130000
DTSTAMP:20260422T083324
CREATED:20260109T174243Z
LAST-MODIFIED:20260109T174243Z
UID:10016901-1770458400-1770469200@www.virginiasriverrealm.com
SUMMARY:Introduction to Pastels at TAG
DESCRIPTION:Nathan Pope leads this introductory class on creating pastel landscapes.
URL:https://www.virginiasriverrealm.com/ajde_event/introduction-to-pastels-at-tag/
LOCATION:Tappahannock Artist Guild\, Prince Street\, Tappahannock\, VA\, United States
CATEGORIES:Art,Art Classes
ATTACH;FMTTYPE=image/jpeg:https://www.virginiasriverrealm.com/wp-content/uploads/2026/01/559502612_1403967245070435_8765381277818791555_n.jpg
ORGANIZER;CN="Tappahannock Artist Guild":MAILTO:info@tapparts.org
GEO:37.928764;-76.8584703
X-APPLE-STRUCTURED-LOCATION;VALUE=URI;X-ADDRESS=Tappahannock Artist Guild Prince Street Tappahannock VA United States;X-APPLE-RADIUS=500;X-TITLE=Prince Street:geo:-76.8584703,37.928764
END:VEVENT
BEGIN:VEVENT
DTSTART;TZID=America/New_York:20260204T100000
DTEND;TZID=America/New_York:20260204T123000
DTSTAMP:20260422T083324
CREATED:20260109T170144Z
LAST-MODIFIED:20260109T170512Z
UID:10016872-1770199200-1770208200@www.virginiasriverrealm.com
SUMMARY:Guided Open Studio Sessions at TAG
DESCRIPTION:TAG Guild Artist Barbara Woodward leads a weekly open studio session with a classroom critique at the end. Open to all mediums. \n$25 drop in or sign up for a package at tapparts.org
URL:https://www.virginiasriverrealm.com/ajde_event/guided-open-studio-sessions-at-tag/2026-02-04/
LOCATION:Tappahannock Artist Guild\, Prince Street\, Tappahannock\, VA\, United States
CATEGORIES:Art,Art Classes
ATTACH;FMTTYPE=image/jpeg:https://www.virginiasriverrealm.com/wp-content/uploads/2026/01/559502612_1403967245070435_8765381277818791555_n.jpg
ORGANIZER;CN="Tappahannock Artist Guild":MAILTO:info@tapparts.org
GEO:37.928764;-76.8584703
X-APPLE-STRUCTURED-LOCATION;VALUE=URI;X-ADDRESS=Tappahannock Artist Guild Prince Street Tappahannock VA United States;X-APPLE-RADIUS=500;X-TITLE=Prince Street:geo:-76.8584703,37.928764
END:VEVENT
BEGIN:VEVENT
DTSTART;TZID=America/New_York:20260128T100000
DTEND;TZID=America/New_York:20260128T123000
DTSTAMP:20260422T083324
CREATED:20260109T170144Z
LAST-MODIFIED:20260109T170512Z
UID:10016871-1769594400-1769603400@www.virginiasriverrealm.com
SUMMARY:Guided Open Studio Sessions at TAG
DESCRIPTION:TAG Guild Artist Barbara Woodward leads a weekly open studio session with a classroom critique at the end. Open to all mediums. \n$25 drop in or sign up for a package at tapparts.org
URL:https://www.virginiasriverrealm.com/ajde_event/guided-open-studio-sessions-at-tag/2026-01-28/
LOCATION:Tappahannock Artist Guild\, Prince Street\, Tappahannock\, VA\, United States
CATEGORIES:Art,Art Classes
ATTACH;FMTTYPE=image/jpeg:https://www.virginiasriverrealm.com/wp-content/uploads/2026/01/559502612_1403967245070435_8765381277818791555_n.jpg
ORGANIZER;CN="Tappahannock Artist Guild":MAILTO:info@tapparts.org
GEO:37.928764;-76.8584703
X-APPLE-STRUCTURED-LOCATION;VALUE=URI;X-ADDRESS=Tappahannock Artist Guild Prince Street Tappahannock VA United States;X-APPLE-RADIUS=500;X-TITLE=Prince Street:geo:-76.8584703,37.928764
END:VEVENT
BEGIN:VEVENT
DTSTART;TZID=America/New_York:20260122T183000
DTEND;TZID=America/New_York:20260122T203000
DTSTAMP:20260422T083324
CREATED:20260109T173422Z
LAST-MODIFIED:20260109T173422Z
UID:10016900-1769106600-1769113800@www.virginiasriverrealm.com
SUMMARY:Sip & Create Mini Oyster Shell Magnolia Flowers
DESCRIPTION:Heather Cockrell will lead a creative evening at TAG. Create a mini magnolia flower using oyster shells. \n$15 Non-members\n$13.50 TAG Members \nRegister here: https://square.link/u/WFF28R0F
URL:https://www.virginiasriverrealm.com/ajde_event/sip-create-mini-oyster-shell-magnolia-flowers/
LOCATION:Tappahannock Artist Guild\, Prince Street\, Tappahannock\, VA\, United States
CATEGORIES:Art,Art Classes
ATTACH;FMTTYPE=image/jpeg:https://www.virginiasriverrealm.com/wp-content/uploads/2026/01/559502612_1403967245070435_8765381277818791555_n.jpg
ORGANIZER;CN="Tappahannock Artist Guild":MAILTO:info@tapparts.org
GEO:37.928764;-76.8584703
X-APPLE-STRUCTURED-LOCATION;VALUE=URI;X-ADDRESS=Tappahannock Artist Guild Prince Street Tappahannock VA United States;X-APPLE-RADIUS=500;X-TITLE=Prince Street:geo:-76.8584703,37.928764
END:VEVENT
END:VCALENDAR