BEGIN:VCALENDAR
VERSION:2.0
PRODID:-//Virginia&#039;s River Realm - ECPv6.15.20//NONSGML v1.0//EN
CALSCALE:GREGORIAN
METHOD:PUBLISH
X-WR-CALNAME:Virginia&#039;s River Realm
X-ORIGINAL-URL:https://www.virginiasriverrealm.com
X-WR-CALDESC:Events for Virginia&#039;s River Realm
REFRESH-INTERVAL;VALUE=DURATION:PT1H
X-Robots-Tag:noindex
X-PUBLISHED-TTL:PT1H
BEGIN:VTIMEZONE
TZID:America/New_York
BEGIN:DAYLIGHT
TZOFFSETFROM:-0500
TZOFFSETTO:-0400
TZNAME:EDT
DTSTART:20250309T070000
END:DAYLIGHT
BEGIN:STANDARD
TZOFFSETFROM:-0400
TZOFFSETTO:-0500
TZNAME:EST
DTSTART:20251102T060000
END:STANDARD
BEGIN:DAYLIGHT
TZOFFSETFROM:-0500
TZOFFSETTO:-0400
TZNAME:EDT
DTSTART:20260308T070000
END:DAYLIGHT
BEGIN:STANDARD
TZOFFSETFROM:-0400
TZOFFSETTO:-0500
TZNAME:EST
DTSTART:20261101T060000
END:STANDARD
BEGIN:DAYLIGHT
TZOFFSETFROM:-0500
TZOFFSETTO:-0400
TZNAME:EDT
DTSTART:20270314T070000
END:DAYLIGHT
BEGIN:STANDARD
TZOFFSETFROM:-0400
TZOFFSETTO:-0500
TZNAME:EST
DTSTART:20271107T060000
END:STANDARD
END:VTIMEZONE
BEGIN:VEVENT
DTSTART;TZID=America/New_York:20260422T100000
DTEND;TZID=America/New_York:20260422T160000
DTSTAMP:20260422T083950
CREATED:20260319T165738Z
LAST-MODIFIED:20260319T170851Z
UID:10018354-1776852000-1776873600@www.virginiasriverrealm.com
SUMMARY:Historic Garden Week
DESCRIPTION:Historic Garden Week tour\, scheduled for April 22nd from 10 to 4PM. Each of the five waterfront properties–just minutes from Kilmarnock–offers beautiful views\, thoughtfully designed gardens\, and elegant interiors adorned with fresh floral arrangements. You won’t want to miss this tour! Tickets are available at the link in the bio or directly at http://gcvirginia.org/historic-garden-week/tickets/. \n 
URL:https://www.virginiasriverrealm.com/ajde_event/historic-garden-week/
LOCATION:Ditchely Cider Works\, 1571 Ditchley Road\, Kilmarnock\, VA\, 22482\, United States
CATEGORIES:History
ATTACH;FMTTYPE=image/jpeg:https://www.virginiasriverrealm.com/wp-content/uploads/2026/03/517721817_720713857388545_8658353331548617014_n.jpg
GEO:37.7330482;-76.3356968
X-APPLE-STRUCTURED-LOCATION;VALUE=URI;X-ADDRESS=Ditchely Cider Works 1571 Ditchley Road Kilmarnock VA 22482 United States;X-APPLE-RADIUS=500;X-TITLE=1571 Ditchley Road:geo:-76.3356968,37.7330482
END:VEVENT
END:VCALENDAR