BEGIN:VCALENDAR
VERSION:2.0
PRODID:-//Virginia&#039;s River Realm - ECPv6.15.20//NONSGML v1.0//EN
CALSCALE:GREGORIAN
METHOD:PUBLISH
X-WR-CALNAME:Virginia&#039;s River Realm
X-ORIGINAL-URL:https://www.virginiasriverrealm.com
X-WR-CALDESC:Events for Virginia&#039;s River Realm
REFRESH-INTERVAL;VALUE=DURATION:PT1H
X-Robots-Tag:noindex
X-PUBLISHED-TTL:PT1H
BEGIN:VTIMEZONE
TZID:America/New_York
BEGIN:DAYLIGHT
TZOFFSETFROM:-0500
TZOFFSETTO:-0400
TZNAME:EDT
DTSTART:20250309T070000
END:DAYLIGHT
BEGIN:STANDARD
TZOFFSETFROM:-0400
TZOFFSETTO:-0500
TZNAME:EST
DTSTART:20251102T060000
END:STANDARD
BEGIN:DAYLIGHT
TZOFFSETFROM:-0500
TZOFFSETTO:-0400
TZNAME:EDT
DTSTART:20260308T070000
END:DAYLIGHT
BEGIN:STANDARD
TZOFFSETFROM:-0400
TZOFFSETTO:-0500
TZNAME:EST
DTSTART:20261101T060000
END:STANDARD
BEGIN:DAYLIGHT
TZOFFSETFROM:-0500
TZOFFSETTO:-0400
TZNAME:EDT
DTSTART:20270314T070000
END:DAYLIGHT
BEGIN:STANDARD
TZOFFSETFROM:-0400
TZOFFSETTO:-0500
TZNAME:EST
DTSTART:20271107T060000
END:STANDARD
END:VTIMEZONE
BEGIN:VEVENT
DTSTART;TZID=America/New_York:20260404T130000
DTEND;TZID=America/New_York:20260404T150000
DTSTAMP:20260422T105509
CREATED:20251210T160235Z
LAST-MODIFIED:20260311T140654Z
UID:10016765-1775307600-1775314800@www.virginiasriverrealm.com
SUMMARY:Annual Easter Egg Hunt
DESCRIPTION:Join us at the Deltaville Maritime Museum and Holly Point Nature Park for our Annual Free Easter Egg Hunt & Pictures with the Easter Bunny on Saturday\, April 4\, 2026 from 1 – 3PM. We will have fun & games for the kids.
URL:https://www.virginiasriverrealm.com/ajde_event/annual-easter-egg-hunt/
LOCATION:Deltaville Maritime Museum\, 287 Jackson Creek Road\, Deltaville\, VA\, United States
CATEGORIES:Children
ATTACH;FMTTYPE=image/jpeg:https://www.virginiasriverrealm.com/wp-content/uploads/2025/03/Easter-Eggs.jpg
GEO:37.5516995;-76.3248164
X-APPLE-STRUCTURED-LOCATION;VALUE=URI;X-ADDRESS=Deltaville Maritime Museum 287 Jackson Creek Road Deltaville VA United States;X-APPLE-RADIUS=500;X-TITLE=287 Jackson Creek Road:geo:-76.3248164,37.5516995
END:VEVENT
BEGIN:VEVENT
DTSTART;TZID=America/New_York:20260216T100000
DTEND;TZID=America/New_York:20260216T130000
DTSTAMP:20260422T105509
CREATED:20260206T161543Z
LAST-MODIFIED:20260206T161557Z
UID:10017336-1771236000-1771246800@www.virginiasriverrealm.com
SUMMARY:Bread Class with Vera England
DESCRIPTION:Join Vera England at the Deltaville Maritime Museum on Monday\, February 16th\, 2026 from 10 to 1PM for a bread making class featuring festive holiday breads. Every nationality has a traditional egg braid or filled loaf for Easter or Christmas. This year we will learn the basics of creating a braided or filled bread like a challah\, potica\, or a Swedish cardamom loaf.  This will be a hands-on class\, so be prepared to stir\, squish\, knead\, roll\, and pound and to immerse your hands in warm gooey dough. While our dough rises\, we will share a light lunch of Vera’s breads and soup brought by volunteers. Each participant will take home two loaves of almost-ready bread to finish baking at home. Ingredients will be supplied\, but participants will be given a list of supplies (bowls\, baking pans\, etc.) that they will need for the class.\nPlease sign up at the Deltaville Maritime Museum at 804-776-7200 or at office@deltavillemuseum.com. There is a maximum of 20 students.\nThe class is $50 with all money raised (after the cost of ingredients) to support matching funds for the F.D. Crockett’s Maritime Heritage grant. Please bring your payment of $50 to the class when you come. Make checks payable to Vera England.
URL:https://www.virginiasriverrealm.com/ajde_event/bread-class-with-vera-england/
LOCATION:Deltaville Maritime Museum\, 287 Jackson Creek Road\, Deltaville\, VA\, United States
CATEGORIES:Foodie Fun
ATTACH;FMTTYPE=image/jpeg:https://www.virginiasriverrealm.com/wp-content/uploads/2026/02/626025235_1471130775017704_204130562194687216_n.jpg
GEO:37.5516995;-76.3248164
X-APPLE-STRUCTURED-LOCATION;VALUE=URI;X-ADDRESS=Deltaville Maritime Museum 287 Jackson Creek Road Deltaville VA United States;X-APPLE-RADIUS=500;X-TITLE=287 Jackson Creek Road:geo:-76.3248164,37.5516995
END:VEVENT
END:VCALENDAR