BEGIN:VCALENDAR
VERSION:2.0
PRODID:-//Virginia&#039;s River Realm - ECPv6.15.18//NONSGML v1.0//EN
CALSCALE:GREGORIAN
METHOD:PUBLISH
X-WR-CALNAME:Virginia&#039;s River Realm
X-ORIGINAL-URL:https://www.virginiasriverrealm.com
X-WR-CALDESC:Events for Virginia&#039;s River Realm
REFRESH-INTERVAL;VALUE=DURATION:PT1H
X-Robots-Tag:noindex
X-PUBLISHED-TTL:PT1H
BEGIN:VTIMEZONE
TZID:America/New_York
BEGIN:DAYLIGHT
TZOFFSETFROM:-0500
TZOFFSETTO:-0400
TZNAME:EDT
DTSTART:20250309T070000
END:DAYLIGHT
BEGIN:STANDARD
TZOFFSETFROM:-0400
TZOFFSETTO:-0500
TZNAME:EST
DTSTART:20251102T060000
END:STANDARD
BEGIN:DAYLIGHT
TZOFFSETFROM:-0500
TZOFFSETTO:-0400
TZNAME:EDT
DTSTART:20260308T070000
END:DAYLIGHT
BEGIN:STANDARD
TZOFFSETFROM:-0400
TZOFFSETTO:-0500
TZNAME:EST
DTSTART:20261101T060000
END:STANDARD
BEGIN:DAYLIGHT
TZOFFSETFROM:-0500
TZOFFSETTO:-0400
TZNAME:EDT
DTSTART:20270314T070000
END:DAYLIGHT
BEGIN:STANDARD
TZOFFSETFROM:-0400
TZOFFSETTO:-0500
TZNAME:EST
DTSTART:20271107T060000
END:STANDARD
END:VTIMEZONE
BEGIN:VEVENT
DTSTART;TZID=America/New_York:20260701T080000
DTEND;TZID=America/New_York:20260701T090000
DTSTAMP:20260420T093829
CREATED:20250424T163831Z
LAST-MODIFIED:20250424T163928Z
UID:10011176-1782892800-1782896400@www.virginiasriverrealm.com
SUMMARY:YOGA Therapy
DESCRIPTION:Join us at Yoga Therapy at 8AM on Wednesdays at Rishi Yoga & Wellness in WHITE STONE.
URL:https://www.virginiasriverrealm.com/ajde_event/yoga-therapy-2/2026-07-01/
LOCATION:Rishi Yoga & Wellness\, 578 Chesapeake Drive\, White Stone\, VA\, 22578\, United States
CATEGORIES:Fitness Classes,Wellness
ATTACH;FMTTYPE=image/jpeg:https://www.virginiasriverrealm.com/wp-content/uploads/2025/04/Rishi-Yoga.jpg
ORGANIZER;CN="Rishi Yoga":MAILTO:rishiyogaandwellness@gmail.com
GEO:37.6465072;-76.3874674
X-APPLE-STRUCTURED-LOCATION;VALUE=URI;X-ADDRESS=Rishi Yoga & Wellness 578 Chesapeake Drive White Stone VA 22578 United States;X-APPLE-RADIUS=500;X-TITLE=578 Chesapeake Drive:geo:-76.3874674,37.6465072
END:VEVENT
BEGIN:VEVENT
DTSTART;TZID=America/New_York:20260702T173000
DTEND;TZID=America/New_York:20260702T183000
DTSTAMP:20260420T093829
CREATED:20250424T163624Z
LAST-MODIFIED:20250424T164036Z
UID:10010655-1783013400-1783017000@www.virginiasriverrealm.com
SUMMARY:YOGA Therapy
DESCRIPTION:Join us at Yoga Therapy at 5:30PM on Thursdays at Rishi Yoga & Wellness in WHITE STONE.
URL:https://www.virginiasriverrealm.com/ajde_event/yoga-therapy/2026-07-02/
LOCATION:Rishi Yoga & Wellness\, 578 Chesapeake Drive\, White Stone\, VA\, 22578\, United States
CATEGORIES:Fitness Classes,Wellness
ATTACH;FMTTYPE=image/jpeg:https://www.virginiasriverrealm.com/wp-content/uploads/2025/04/Rishi-Yoga.jpg
ORGANIZER;CN="Rishi Yoga":MAILTO:rishiyogaandwellness@gmail.com
GEO:37.6465072;-76.3874674
X-APPLE-STRUCTURED-LOCATION;VALUE=URI;X-ADDRESS=Rishi Yoga & Wellness 578 Chesapeake Drive White Stone VA 22578 United States;X-APPLE-RADIUS=500;X-TITLE=578 Chesapeake Drive:geo:-76.3874674,37.6465072
END:VEVENT
BEGIN:VEVENT
DTSTART;TZID=America/New_York:20260708T080000
DTEND;TZID=America/New_York:20260708T090000
DTSTAMP:20260420T093829
CREATED:20250424T163831Z
LAST-MODIFIED:20250424T163928Z
UID:10011177-1783497600-1783501200@www.virginiasriverrealm.com
SUMMARY:YOGA Therapy
DESCRIPTION:Join us at Yoga Therapy at 8AM on Wednesdays at Rishi Yoga & Wellness in WHITE STONE.
URL:https://www.virginiasriverrealm.com/ajde_event/yoga-therapy-2/2026-07-08/
LOCATION:Rishi Yoga & Wellness\, 578 Chesapeake Drive\, White Stone\, VA\, 22578\, United States
CATEGORIES:Fitness Classes,Wellness
ATTACH;FMTTYPE=image/jpeg:https://www.virginiasriverrealm.com/wp-content/uploads/2025/04/Rishi-Yoga.jpg
ORGANIZER;CN="Rishi Yoga":MAILTO:rishiyogaandwellness@gmail.com
GEO:37.6465072;-76.3874674
X-APPLE-STRUCTURED-LOCATION;VALUE=URI;X-ADDRESS=Rishi Yoga & Wellness 578 Chesapeake Drive White Stone VA 22578 United States;X-APPLE-RADIUS=500;X-TITLE=578 Chesapeake Drive:geo:-76.3874674,37.6465072
END:VEVENT
BEGIN:VEVENT
DTSTART;TZID=America/New_York:20260709T173000
DTEND;TZID=America/New_York:20260709T183000
DTSTAMP:20260420T093829
CREATED:20250424T163624Z
LAST-MODIFIED:20250424T164036Z
UID:10010656-1783618200-1783621800@www.virginiasriverrealm.com
SUMMARY:YOGA Therapy
DESCRIPTION:Join us at Yoga Therapy at 5:30PM on Thursdays at Rishi Yoga & Wellness in WHITE STONE.
URL:https://www.virginiasriverrealm.com/ajde_event/yoga-therapy/2026-07-09/
LOCATION:Rishi Yoga & Wellness\, 578 Chesapeake Drive\, White Stone\, VA\, 22578\, United States
CATEGORIES:Fitness Classes,Wellness
ATTACH;FMTTYPE=image/jpeg:https://www.virginiasriverrealm.com/wp-content/uploads/2025/04/Rishi-Yoga.jpg
ORGANIZER;CN="Rishi Yoga":MAILTO:rishiyogaandwellness@gmail.com
GEO:37.6465072;-76.3874674
X-APPLE-STRUCTURED-LOCATION;VALUE=URI;X-ADDRESS=Rishi Yoga & Wellness 578 Chesapeake Drive White Stone VA 22578 United States;X-APPLE-RADIUS=500;X-TITLE=578 Chesapeake Drive:geo:-76.3874674,37.6465072
END:VEVENT
BEGIN:VEVENT
DTSTART;TZID=America/New_York:20260715T080000
DTEND;TZID=America/New_York:20260715T090000
DTSTAMP:20260420T093829
CREATED:20250424T163831Z
LAST-MODIFIED:20250424T163928Z
UID:10011178-1784102400-1784106000@www.virginiasriverrealm.com
SUMMARY:YOGA Therapy
DESCRIPTION:Join us at Yoga Therapy at 8AM on Wednesdays at Rishi Yoga & Wellness in WHITE STONE.
URL:https://www.virginiasriverrealm.com/ajde_event/yoga-therapy-2/2026-07-15/
LOCATION:Rishi Yoga & Wellness\, 578 Chesapeake Drive\, White Stone\, VA\, 22578\, United States
CATEGORIES:Fitness Classes,Wellness
ATTACH;FMTTYPE=image/jpeg:https://www.virginiasriverrealm.com/wp-content/uploads/2025/04/Rishi-Yoga.jpg
ORGANIZER;CN="Rishi Yoga":MAILTO:rishiyogaandwellness@gmail.com
GEO:37.6465072;-76.3874674
X-APPLE-STRUCTURED-LOCATION;VALUE=URI;X-ADDRESS=Rishi Yoga & Wellness 578 Chesapeake Drive White Stone VA 22578 United States;X-APPLE-RADIUS=500;X-TITLE=578 Chesapeake Drive:geo:-76.3874674,37.6465072
END:VEVENT
BEGIN:VEVENT
DTSTART;TZID=America/New_York:20260716T173000
DTEND;TZID=America/New_York:20260716T183000
DTSTAMP:20260420T093829
CREATED:20250424T163624Z
LAST-MODIFIED:20250424T164036Z
UID:10010657-1784223000-1784226600@www.virginiasriverrealm.com
SUMMARY:YOGA Therapy
DESCRIPTION:Join us at Yoga Therapy at 5:30PM on Thursdays at Rishi Yoga & Wellness in WHITE STONE.
URL:https://www.virginiasriverrealm.com/ajde_event/yoga-therapy/2026-07-16/
LOCATION:Rishi Yoga & Wellness\, 578 Chesapeake Drive\, White Stone\, VA\, 22578\, United States
CATEGORIES:Fitness Classes,Wellness
ATTACH;FMTTYPE=image/jpeg:https://www.virginiasriverrealm.com/wp-content/uploads/2025/04/Rishi-Yoga.jpg
ORGANIZER;CN="Rishi Yoga":MAILTO:rishiyogaandwellness@gmail.com
GEO:37.6465072;-76.3874674
X-APPLE-STRUCTURED-LOCATION;VALUE=URI;X-ADDRESS=Rishi Yoga & Wellness 578 Chesapeake Drive White Stone VA 22578 United States;X-APPLE-RADIUS=500;X-TITLE=578 Chesapeake Drive:geo:-76.3874674,37.6465072
END:VEVENT
BEGIN:VEVENT
DTSTART;TZID=America/New_York:20260720T090000
DTEND;TZID=America/New_York:20260724T150000
DTSTAMP:20260420T093829
CREATED:20260330T135329Z
LAST-MODIFIED:20260330T135329Z
UID:10018535-1784538000-1784905200@www.virginiasriverrealm.com
SUMMARY:Youth Theatre Program: Storytelling Workshop
DESCRIPTION:Lancaster Players is excited to introduce a new addition to its summer Youth Theatre Programs: “Threads of Us: Weaving Our Stories.”\n\n\nThis five-day storytelling workshop (July 20–24) invites young people ages 12–18 to explore the timeless art of storytelling. Guided by creator and teaching artist Rema Keen\, participants will gather stories\, write scripts\, and collaborate to create an original performance featuring their own words and songs.\n\n\nAlong the way\, students will explore creative theatre skills including stage direction\, blocking\, editing\, scripting\, and the art of Tandem Storytelling.\n\n\nWe’re excited to welcome this new storytelling experience to our Youth Theatre Program and look forward to seeing the stories our young participants create together.\n\n\nFor more details and to register\, visit: https://www.lancasterplayers.org/storytelling-workshop.
URL:https://www.virginiasriverrealm.com/ajde_event/youth-theatre-program-storytelling-workshop/
LOCATION:Lancaster Players Playhouse\, 361 Chesapeake Dr\, White Stone\, VA\, United States
CATEGORIES:Children,Older Children (10-13),Teenagers (14+)
ATTACH;FMTTYPE=image/jpeg:https://www.virginiasriverrealm.com/wp-content/uploads/2026/03/656051089_18350927386239283_2626003792329797622_n.jpg
GEO:37.6494547;-76.3901576
X-APPLE-STRUCTURED-LOCATION;VALUE=URI;X-ADDRESS=Lancaster Players Playhouse 361 Chesapeake Dr White Stone VA United States;X-APPLE-RADIUS=500;X-TITLE=361 Chesapeake Dr:geo:-76.3901576,37.6494547
END:VEVENT
BEGIN:VEVENT
DTSTART;TZID=America/New_York:20260722T080000
DTEND;TZID=America/New_York:20260722T090000
DTSTAMP:20260420T093829
CREATED:20250424T163831Z
LAST-MODIFIED:20250424T163928Z
UID:10011179-1784707200-1784710800@www.virginiasriverrealm.com
SUMMARY:YOGA Therapy
DESCRIPTION:Join us at Yoga Therapy at 8AM on Wednesdays at Rishi Yoga & Wellness in WHITE STONE.
URL:https://www.virginiasriverrealm.com/ajde_event/yoga-therapy-2/2026-07-22/
LOCATION:Rishi Yoga & Wellness\, 578 Chesapeake Drive\, White Stone\, VA\, 22578\, United States
CATEGORIES:Fitness Classes,Wellness
ATTACH;FMTTYPE=image/jpeg:https://www.virginiasriverrealm.com/wp-content/uploads/2025/04/Rishi-Yoga.jpg
ORGANIZER;CN="Rishi Yoga":MAILTO:rishiyogaandwellness@gmail.com
GEO:37.6465072;-76.3874674
X-APPLE-STRUCTURED-LOCATION;VALUE=URI;X-ADDRESS=Rishi Yoga & Wellness 578 Chesapeake Drive White Stone VA 22578 United States;X-APPLE-RADIUS=500;X-TITLE=578 Chesapeake Drive:geo:-76.3874674,37.6465072
END:VEVENT
BEGIN:VEVENT
DTSTART;TZID=America/New_York:20260723T173000
DTEND;TZID=America/New_York:20260723T183000
DTSTAMP:20260420T093829
CREATED:20250424T163624Z
LAST-MODIFIED:20250424T164036Z
UID:10010658-1784827800-1784831400@www.virginiasriverrealm.com
SUMMARY:YOGA Therapy
DESCRIPTION:Join us at Yoga Therapy at 5:30PM on Thursdays at Rishi Yoga & Wellness in WHITE STONE.
URL:https://www.virginiasriverrealm.com/ajde_event/yoga-therapy/2026-07-23/
LOCATION:Rishi Yoga & Wellness\, 578 Chesapeake Drive\, White Stone\, VA\, 22578\, United States
CATEGORIES:Fitness Classes,Wellness
ATTACH;FMTTYPE=image/jpeg:https://www.virginiasriverrealm.com/wp-content/uploads/2025/04/Rishi-Yoga.jpg
ORGANIZER;CN="Rishi Yoga":MAILTO:rishiyogaandwellness@gmail.com
GEO:37.6465072;-76.3874674
X-APPLE-STRUCTURED-LOCATION;VALUE=URI;X-ADDRESS=Rishi Yoga & Wellness 578 Chesapeake Drive White Stone VA 22578 United States;X-APPLE-RADIUS=500;X-TITLE=578 Chesapeake Drive:geo:-76.3874674,37.6465072
END:VEVENT
BEGIN:VEVENT
DTSTART;TZID=America/New_York:20260729T080000
DTEND;TZID=America/New_York:20260729T090000
DTSTAMP:20260420T093829
CREATED:20250424T163831Z
LAST-MODIFIED:20250424T163928Z
UID:10011180-1785312000-1785315600@www.virginiasriverrealm.com
SUMMARY:YOGA Therapy
DESCRIPTION:Join us at Yoga Therapy at 8AM on Wednesdays at Rishi Yoga & Wellness in WHITE STONE.
URL:https://www.virginiasriverrealm.com/ajde_event/yoga-therapy-2/2026-07-29/
LOCATION:Rishi Yoga & Wellness\, 578 Chesapeake Drive\, White Stone\, VA\, 22578\, United States
CATEGORIES:Fitness Classes,Wellness
ATTACH;FMTTYPE=image/jpeg:https://www.virginiasriverrealm.com/wp-content/uploads/2025/04/Rishi-Yoga.jpg
ORGANIZER;CN="Rishi Yoga":MAILTO:rishiyogaandwellness@gmail.com
GEO:37.6465072;-76.3874674
X-APPLE-STRUCTURED-LOCATION;VALUE=URI;X-ADDRESS=Rishi Yoga & Wellness 578 Chesapeake Drive White Stone VA 22578 United States;X-APPLE-RADIUS=500;X-TITLE=578 Chesapeake Drive:geo:-76.3874674,37.6465072
END:VEVENT
BEGIN:VEVENT
DTSTART;TZID=America/New_York:20260730T173000
DTEND;TZID=America/New_York:20260730T183000
DTSTAMP:20260420T093829
CREATED:20250424T163624Z
LAST-MODIFIED:20250424T164036Z
UID:10010659-1785432600-1785436200@www.virginiasriverrealm.com
SUMMARY:YOGA Therapy
DESCRIPTION:Join us at Yoga Therapy at 5:30PM on Thursdays at Rishi Yoga & Wellness in WHITE STONE.
URL:https://www.virginiasriverrealm.com/ajde_event/yoga-therapy/2026-07-30/
LOCATION:Rishi Yoga & Wellness\, 578 Chesapeake Drive\, White Stone\, VA\, 22578\, United States
CATEGORIES:Fitness Classes,Wellness
ATTACH;FMTTYPE=image/jpeg:https://www.virginiasriverrealm.com/wp-content/uploads/2025/04/Rishi-Yoga.jpg
ORGANIZER;CN="Rishi Yoga":MAILTO:rishiyogaandwellness@gmail.com
GEO:37.6465072;-76.3874674
X-APPLE-STRUCTURED-LOCATION;VALUE=URI;X-ADDRESS=Rishi Yoga & Wellness 578 Chesapeake Drive White Stone VA 22578 United States;X-APPLE-RADIUS=500;X-TITLE=578 Chesapeake Drive:geo:-76.3874674,37.6465072
END:VEVENT
END:VCALENDAR