BEGIN:VCALENDAR
VERSION:2.0
PRODID:-//Virginia&#039;s River Realm - ECPv6.15.20//NONSGML v1.0//EN
CALSCALE:GREGORIAN
METHOD:PUBLISH
X-ORIGINAL-URL:https://www.virginiasriverrealm.com
X-WR-CALDESC:Events for Virginia&#039;s River Realm
REFRESH-INTERVAL;VALUE=DURATION:PT1H
X-Robots-Tag:noindex
X-PUBLISHED-TTL:PT1H
BEGIN:VTIMEZONE
TZID:America/New_York
BEGIN:DAYLIGHT
TZOFFSETFROM:-0500
TZOFFSETTO:-0400
TZNAME:EDT
DTSTART:20250309T070000
END:DAYLIGHT
BEGIN:STANDARD
TZOFFSETFROM:-0400
TZOFFSETTO:-0500
TZNAME:EST
DTSTART:20251102T060000
END:STANDARD
BEGIN:DAYLIGHT
TZOFFSETFROM:-0500
TZOFFSETTO:-0400
TZNAME:EDT
DTSTART:20260308T070000
END:DAYLIGHT
BEGIN:STANDARD
TZOFFSETFROM:-0400
TZOFFSETTO:-0500
TZNAME:EST
DTSTART:20261101T060000
END:STANDARD
BEGIN:DAYLIGHT
TZOFFSETFROM:-0500
TZOFFSETTO:-0400
TZNAME:EDT
DTSTART:20270314T070000
END:DAYLIGHT
BEGIN:STANDARD
TZOFFSETFROM:-0400
TZOFFSETTO:-0500
TZNAME:EST
DTSTART:20271107T060000
END:STANDARD
END:VTIMEZONE
BEGIN:VEVENT
DTSTART;TZID=America/New_York:20260323T100000
DTEND;TZID=America/New_York:20260427T123000
DTSTAMP:20260421T132509
CREATED:20260102T183043Z
LAST-MODIFIED:20260102T184235Z
UID:10016829-1774260000-1777293000@www.virginiasriverrealm.com
SUMMARY:Watercolor Painting for the True Beginner
DESCRIPTION:Join us for “Watercolor Painting for the True Beginner” March 23rd – April 27th\, 2026 from 10AM – 12:30PM at the Rappahannock Art Center.  Instructed by Dock Mock.  Cost of Class: $255 members; $295 nonmembers. \nDo you have the desire to paint in watercolor but don’t know where to start…then this is your chance! Join artist/instructor Doug Mock as he leads you to understand watercolor and provides you with the necessary guidance and direction for you to achieve success.  You will learn about supplies\, beginning techniques\, choosing subject matter and achieving results that are sure to please.This is a wonderful class and one you don’t want to miss. Double the fun and invite a friend; this will be a great learning opportunity. \nA key to success with watercolor is having the best supplies an artist can afford. If you have watercolor supplies that might work\, please feel free to bring them to the first class. If you need supplies then Doug will have a good beginner kit (paints\, brushes\, palette\, color wheel\, paper & more) available for $125 (please make check payable to Doug Mock for supplies and bring to the first class).
URL:https://www.virginiasriverrealm.com/ajde_event/watercolor-painting-for-the-true-beginner/
LOCATION:RAL Art Center\, 19 North Main Street\, Kilmarnock\, VA\, 22482\, United States
CATEGORIES:Art,Art Classes
ATTACH;FMTTYPE=image/avif:https://www.virginiasriverrealm.com/wp-content/uploads/2026/01/ad7e29_fa373ada8e044bc9b6f5d9daef8408bamv2.avif
GEO:37.7113661;-76.3807072
X-APPLE-STRUCTURED-LOCATION;VALUE=URI;X-ADDRESS=RAL Art Center 19 North Main Street Kilmarnock VA 22482 United States;X-APPLE-RADIUS=500;X-TITLE=19 North Main Street:geo:-76.3807072,37.7113661
END:VEVENT
BEGIN:VEVENT
DTSTART;TZID=America/New_York:20260421T090000
DTEND;TZID=America/New_York:20260421T163000
DTSTAMP:20260421T132509
CREATED:20251009T135918Z
LAST-MODIFIED:20251009T140006Z
UID:10013743-1776762000-1776789000@www.virginiasriverrealm.com
SUMMARY:Walk in Paint Session
DESCRIPTION:Come in and unleash the artist in you. Choose your ceramic\, paint then leave it to be fired and picked up within 7 days. No appointment necessary. Bring a friend\, bring a group or just bring yourself.  Price Varies.
URL:https://www.virginiasriverrealm.com/ajde_event/walk-in-paint-session/2026-04-21/
LOCATION:36 North Arts & Crafts\, 36 N. Main Street\, Kilmarnock\, VA\, 22482\, United States
CATEGORIES:Art,Art Classes
ATTACH;FMTTYPE=application/pdf:https://www.virginiasriverrealm.com/wp-content/uploads/2025/10/36-North-Arts-Crafts.pdf
ORGANIZER;CN="36 North Arts & Crafts":MAILTO:information@36Northart.com
GEO:37.7116635;-76.3803914
X-APPLE-STRUCTURED-LOCATION;VALUE=URI;X-ADDRESS=36 North Arts & Crafts 36 N. Main Street Kilmarnock VA 22482 United States;X-APPLE-RADIUS=500;X-TITLE=36 N. Main Street:geo:-76.3803914,37.7116635
END:VEVENT
BEGIN:VEVENT
DTSTART;TZID=America/New_York:20260422T090000
DTEND;TZID=America/New_York:20260422T163000
DTSTAMP:20260421T132509
CREATED:20251009T135918Z
LAST-MODIFIED:20251009T140006Z
UID:10013744-1776848400-1776875400@www.virginiasriverrealm.com
SUMMARY:Walk in Paint Session
DESCRIPTION:Come in and unleash the artist in you. Choose your ceramic\, paint then leave it to be fired and picked up within 7 days. No appointment necessary. Bring a friend\, bring a group or just bring yourself.  Price Varies.
URL:https://www.virginiasriverrealm.com/ajde_event/walk-in-paint-session/2026-04-22/
LOCATION:36 North Arts & Crafts\, 36 N. Main Street\, Kilmarnock\, VA\, 22482\, United States
CATEGORIES:Art,Art Classes
ATTACH;FMTTYPE=application/pdf:https://www.virginiasriverrealm.com/wp-content/uploads/2025/10/36-North-Arts-Crafts.pdf
ORGANIZER;CN="36 North Arts & Crafts":MAILTO:information@36Northart.com
GEO:37.7116635;-76.3803914
X-APPLE-STRUCTURED-LOCATION;VALUE=URI;X-ADDRESS=36 North Arts & Crafts 36 N. Main Street Kilmarnock VA 22482 United States;X-APPLE-RADIUS=500;X-TITLE=36 N. Main Street:geo:-76.3803914,37.7116635
END:VEVENT
BEGIN:VEVENT
DTSTART;TZID=America/New_York:20260422T100000
DTEND;TZID=America/New_York:20260422T123000
DTSTAMP:20260421T132509
CREATED:20260109T170144Z
LAST-MODIFIED:20260109T170512Z
UID:10016883-1776852000-1776861000@www.virginiasriverrealm.com
SUMMARY:Guided Open Studio Sessions at TAG
DESCRIPTION:TAG Guild Artist Barbara Woodward leads a weekly open studio session with a classroom critique at the end. Open to all mediums. \n$25 drop in or sign up for a package at tapparts.org
URL:https://www.virginiasriverrealm.com/ajde_event/guided-open-studio-sessions-at-tag/2026-04-22/
LOCATION:Tappahannock Artist Guild\, Prince Street\, Tappahannock\, VA\, United States
CATEGORIES:Art,Art Classes
ATTACH;FMTTYPE=image/jpeg:https://www.virginiasriverrealm.com/wp-content/uploads/2026/01/559502612_1403967245070435_8765381277818791555_n.jpg
ORGANIZER;CN="Tappahannock Artist Guild":MAILTO:info@tapparts.org
GEO:37.928764;-76.8584703
X-APPLE-STRUCTURED-LOCATION;VALUE=URI;X-ADDRESS=Tappahannock Artist Guild Prince Street Tappahannock VA United States;X-APPLE-RADIUS=500;X-TITLE=Prince Street:geo:-76.8584703,37.928764
END:VEVENT
BEGIN:VEVENT
DTSTART;TZID=America/New_York:20260423T090000
DTEND;TZID=America/New_York:20260423T163000
DTSTAMP:20260421T132509
CREATED:20251009T135918Z
LAST-MODIFIED:20251009T140006Z
UID:10013745-1776934800-1776961800@www.virginiasriverrealm.com
SUMMARY:Walk in Paint Session
DESCRIPTION:Come in and unleash the artist in you. Choose your ceramic\, paint then leave it to be fired and picked up within 7 days. No appointment necessary. Bring a friend\, bring a group or just bring yourself.  Price Varies.
URL:https://www.virginiasriverrealm.com/ajde_event/walk-in-paint-session/2026-04-23/
LOCATION:36 North Arts & Crafts\, 36 N. Main Street\, Kilmarnock\, VA\, 22482\, United States
CATEGORIES:Art,Art Classes
ATTACH;FMTTYPE=application/pdf:https://www.virginiasriverrealm.com/wp-content/uploads/2025/10/36-North-Arts-Crafts.pdf
ORGANIZER;CN="36 North Arts & Crafts":MAILTO:information@36Northart.com
GEO:37.7116635;-76.3803914
X-APPLE-STRUCTURED-LOCATION;VALUE=URI;X-ADDRESS=36 North Arts & Crafts 36 N. Main Street Kilmarnock VA 22482 United States;X-APPLE-RADIUS=500;X-TITLE=36 N. Main Street:geo:-76.3803914,37.7116635
END:VEVENT
BEGIN:VEVENT
DTSTART;TZID=America/New_York:20260424T090000
DTEND;TZID=America/New_York:20260424T163000
DTSTAMP:20260421T132509
CREATED:20251009T135918Z
LAST-MODIFIED:20251009T140006Z
UID:10013746-1777021200-1777048200@www.virginiasriverrealm.com
SUMMARY:Walk in Paint Session
DESCRIPTION:Come in and unleash the artist in you. Choose your ceramic\, paint then leave it to be fired and picked up within 7 days. No appointment necessary. Bring a friend\, bring a group or just bring yourself.  Price Varies.
URL:https://www.virginiasriverrealm.com/ajde_event/walk-in-paint-session/2026-04-24/
LOCATION:36 North Arts & Crafts\, 36 N. Main Street\, Kilmarnock\, VA\, 22482\, United States
CATEGORIES:Art,Art Classes
ATTACH;FMTTYPE=application/pdf:https://www.virginiasriverrealm.com/wp-content/uploads/2025/10/36-North-Arts-Crafts.pdf
ORGANIZER;CN="36 North Arts & Crafts":MAILTO:information@36Northart.com
GEO:37.7116635;-76.3803914
X-APPLE-STRUCTURED-LOCATION;VALUE=URI;X-ADDRESS=36 North Arts & Crafts 36 N. Main Street Kilmarnock VA 22482 United States;X-APPLE-RADIUS=500;X-TITLE=36 N. Main Street:geo:-76.3803914,37.7116635
END:VEVENT
BEGIN:VEVENT
DTSTART;TZID=America/New_York:20260425T090000
DTEND;TZID=America/New_York:20260425T163000
DTSTAMP:20260421T132509
CREATED:20251009T135918Z
LAST-MODIFIED:20251009T140006Z
UID:10013747-1777107600-1777134600@www.virginiasriverrealm.com
SUMMARY:Walk in Paint Session
DESCRIPTION:Come in and unleash the artist in you. Choose your ceramic\, paint then leave it to be fired and picked up within 7 days. No appointment necessary. Bring a friend\, bring a group or just bring yourself.  Price Varies.
URL:https://www.virginiasriverrealm.com/ajde_event/walk-in-paint-session/2026-04-25/
LOCATION:36 North Arts & Crafts\, 36 N. Main Street\, Kilmarnock\, VA\, 22482\, United States
CATEGORIES:Art,Art Classes
ATTACH;FMTTYPE=application/pdf:https://www.virginiasriverrealm.com/wp-content/uploads/2025/10/36-North-Arts-Crafts.pdf
ORGANIZER;CN="36 North Arts & Crafts":MAILTO:information@36Northart.com
GEO:37.7116635;-76.3803914
X-APPLE-STRUCTURED-LOCATION;VALUE=URI;X-ADDRESS=36 North Arts & Crafts 36 N. Main Street Kilmarnock VA 22482 United States;X-APPLE-RADIUS=500;X-TITLE=36 N. Main Street:geo:-76.3803914,37.7116635
END:VEVENT
BEGIN:VEVENT
DTSTART;TZID=America/New_York:20260426T170000
DTEND;TZID=America/New_York:20260426T190000
DTSTAMP:20260421T132509
CREATED:20260416T130329Z
LAST-MODIFIED:20260416T130443Z
UID:10018628-1777222800-1777230000@www.virginiasriverrealm.com
SUMMARY:Paint & Pet a Goat
DESCRIPTION:Join Local Artist Lauren Moye for step-by-step painting at Thru God’s Grace Farm LLC on Sunday\, April 26th from 5-7PM.  Cost is $54 per person.
URL:https://www.virginiasriverrealm.com/ajde_event/paint-pet-a-goat/
LOCATION:God’s Grace Farm\, LLC\, 4291 Soles Lane\, Saluda\, VA\, 23149\, United States
CATEGORIES:Art,Art Classes
ATTACH;FMTTYPE=image/jpeg:https://www.virginiasriverrealm.com/wp-content/uploads/2026/04/93598-e1776344675337.jpg
GEO:37.5746785;-76.6012182
X-APPLE-STRUCTURED-LOCATION;VALUE=URI;X-ADDRESS=God’s Grace Farm LLC 4291 Soles Lane Saluda VA 23149 United States;X-APPLE-RADIUS=500;X-TITLE=4291 Soles Lane:geo:-76.6012182,37.5746785
END:VEVENT
BEGIN:VEVENT
DTSTART;TZID=America/New_York:20260428T090000
DTEND;TZID=America/New_York:20260428T163000
DTSTAMP:20260421T132509
CREATED:20251009T135918Z
LAST-MODIFIED:20251009T140006Z
UID:10013748-1777366800-1777393800@www.virginiasriverrealm.com
SUMMARY:Walk in Paint Session
DESCRIPTION:Come in and unleash the artist in you. Choose your ceramic\, paint then leave it to be fired and picked up within 7 days. No appointment necessary. Bring a friend\, bring a group or just bring yourself.  Price Varies.
URL:https://www.virginiasriverrealm.com/ajde_event/walk-in-paint-session/2026-04-28/
LOCATION:36 North Arts & Crafts\, 36 N. Main Street\, Kilmarnock\, VA\, 22482\, United States
CATEGORIES:Art,Art Classes
ATTACH;FMTTYPE=application/pdf:https://www.virginiasriverrealm.com/wp-content/uploads/2025/10/36-North-Arts-Crafts.pdf
ORGANIZER;CN="36 North Arts & Crafts":MAILTO:information@36Northart.com
GEO:37.7116635;-76.3803914
X-APPLE-STRUCTURED-LOCATION;VALUE=URI;X-ADDRESS=36 North Arts & Crafts 36 N. Main Street Kilmarnock VA 22482 United States;X-APPLE-RADIUS=500;X-TITLE=36 N. Main Street:geo:-76.3803914,37.7116635
END:VEVENT
BEGIN:VEVENT
DTSTART;TZID=America/New_York:20260429T090000
DTEND;TZID=America/New_York:20260429T163000
DTSTAMP:20260421T132509
CREATED:20251009T135918Z
LAST-MODIFIED:20251009T140006Z
UID:10013749-1777453200-1777480200@www.virginiasriverrealm.com
SUMMARY:Walk in Paint Session
DESCRIPTION:Come in and unleash the artist in you. Choose your ceramic\, paint then leave it to be fired and picked up within 7 days. No appointment necessary. Bring a friend\, bring a group or just bring yourself.  Price Varies.
URL:https://www.virginiasriverrealm.com/ajde_event/walk-in-paint-session/2026-04-29/
LOCATION:36 North Arts & Crafts\, 36 N. Main Street\, Kilmarnock\, VA\, 22482\, United States
CATEGORIES:Art,Art Classes
ATTACH;FMTTYPE=application/pdf:https://www.virginiasriverrealm.com/wp-content/uploads/2025/10/36-North-Arts-Crafts.pdf
ORGANIZER;CN="36 North Arts & Crafts":MAILTO:information@36Northart.com
GEO:37.7116635;-76.3803914
X-APPLE-STRUCTURED-LOCATION;VALUE=URI;X-ADDRESS=36 North Arts & Crafts 36 N. Main Street Kilmarnock VA 22482 United States;X-APPLE-RADIUS=500;X-TITLE=36 N. Main Street:geo:-76.3803914,37.7116635
END:VEVENT
BEGIN:VEVENT
DTSTART;TZID=America/New_York:20260429T100000
DTEND;TZID=America/New_York:20260429T123000
DTSTAMP:20260421T132509
CREATED:20260109T170144Z
LAST-MODIFIED:20260109T170512Z
UID:10016884-1777456800-1777465800@www.virginiasriverrealm.com
SUMMARY:Guided Open Studio Sessions at TAG
DESCRIPTION:TAG Guild Artist Barbara Woodward leads a weekly open studio session with a classroom critique at the end. Open to all mediums. \n$25 drop in or sign up for a package at tapparts.org
URL:https://www.virginiasriverrealm.com/ajde_event/guided-open-studio-sessions-at-tag/2026-04-29/
LOCATION:Tappahannock Artist Guild\, Prince Street\, Tappahannock\, VA\, United States
CATEGORIES:Art,Art Classes
ATTACH;FMTTYPE=image/jpeg:https://www.virginiasriverrealm.com/wp-content/uploads/2026/01/559502612_1403967245070435_8765381277818791555_n.jpg
ORGANIZER;CN="Tappahannock Artist Guild":MAILTO:info@tapparts.org
GEO:37.928764;-76.8584703
X-APPLE-STRUCTURED-LOCATION;VALUE=URI;X-ADDRESS=Tappahannock Artist Guild Prince Street Tappahannock VA United States;X-APPLE-RADIUS=500;X-TITLE=Prince Street:geo:-76.8584703,37.928764
END:VEVENT
BEGIN:VEVENT
DTSTART;TZID=America/New_York:20260430T090000
DTEND;TZID=America/New_York:20260430T163000
DTSTAMP:20260421T132509
CREATED:20251009T135918Z
LAST-MODIFIED:20251009T140006Z
UID:10013750-1777539600-1777566600@www.virginiasriverrealm.com
SUMMARY:Walk in Paint Session
DESCRIPTION:Come in and unleash the artist in you. Choose your ceramic\, paint then leave it to be fired and picked up within 7 days. No appointment necessary. Bring a friend\, bring a group or just bring yourself.  Price Varies.
URL:https://www.virginiasriverrealm.com/ajde_event/walk-in-paint-session/2026-04-30/
LOCATION:36 North Arts & Crafts\, 36 N. Main Street\, Kilmarnock\, VA\, 22482\, United States
CATEGORIES:Art,Art Classes
ATTACH;FMTTYPE=application/pdf:https://www.virginiasriverrealm.com/wp-content/uploads/2025/10/36-North-Arts-Crafts.pdf
ORGANIZER;CN="36 North Arts & Crafts":MAILTO:information@36Northart.com
GEO:37.7116635;-76.3803914
X-APPLE-STRUCTURED-LOCATION;VALUE=URI;X-ADDRESS=36 North Arts & Crafts 36 N. Main Street Kilmarnock VA 22482 United States;X-APPLE-RADIUS=500;X-TITLE=36 N. Main Street:geo:-76.3803914,37.7116635
END:VEVENT
END:VCALENDAR