BEGIN:VCALENDAR
VERSION:2.0
PRODID:-//Virginia&#039;s River Realm - ECPv6.15.20//NONSGML v1.0//EN
CALSCALE:GREGORIAN
METHOD:PUBLISH
X-WR-CALNAME:Virginia&#039;s River Realm
X-ORIGINAL-URL:https://www.virginiasriverrealm.com
X-WR-CALDESC:Events for Virginia&#039;s River Realm
REFRESH-INTERVAL;VALUE=DURATION:PT1H
X-Robots-Tag:noindex
X-PUBLISHED-TTL:PT1H
BEGIN:VTIMEZONE
TZID:America/New_York
BEGIN:DAYLIGHT
TZOFFSETFROM:-0500
TZOFFSETTO:-0400
TZNAME:EDT
DTSTART:20250309T070000
END:DAYLIGHT
BEGIN:STANDARD
TZOFFSETFROM:-0400
TZOFFSETTO:-0500
TZNAME:EST
DTSTART:20251102T060000
END:STANDARD
BEGIN:DAYLIGHT
TZOFFSETFROM:-0500
TZOFFSETTO:-0400
TZNAME:EDT
DTSTART:20260308T070000
END:DAYLIGHT
BEGIN:STANDARD
TZOFFSETFROM:-0400
TZOFFSETTO:-0500
TZNAME:EST
DTSTART:20261101T060000
END:STANDARD
BEGIN:DAYLIGHT
TZOFFSETFROM:-0500
TZOFFSETTO:-0400
TZNAME:EDT
DTSTART:20270314T070000
END:DAYLIGHT
BEGIN:STANDARD
TZOFFSETFROM:-0400
TZOFFSETTO:-0500
TZNAME:EST
DTSTART:20271107T060000
END:STANDARD
END:VTIMEZONE
BEGIN:VEVENT
DTSTART;TZID=America/New_York:20260810T080000
DTEND;TZID=America/New_York:20260812T170000
DTSTAMP:20260424T114731
CREATED:20260115T174113Z
LAST-MODIFIED:20260420T182635Z
UID:10017047-1786348800-1786554000@www.virginiasriverrealm.com
SUMMARY:Youth Summer Fishing Camps
DESCRIPTION:Catch A Chesapeake Summer Adventure! \nFor nearly twenty years\, our “Kids Fishing Summer Camps” have taught girls and boys the basics of sport fishing and crabbing while exploring the Bay’s shallows. Campers learn to paddle kayaks and use nets to catch fish\, crabs and other Bay critters. No experience required\, all equipment provided. \nDates:\nJune 1-4: Kayak Camp\nJune 22-23: Boat Session (Limited to 4 Campers)\nAugust 10-12: Kayak Camp
URL:https://www.virginiasriverrealm.com/ajde_event/youth-summer-fishing-camps/2026-08-10/
LOCATION:Rappahannock River\, White Stone\, VA\, United States
CATEGORIES:Boating,Children,Fishing,On the Water,Outdoors,Summer Camps
ATTACH;FMTTYPE=image/jpeg:https://www.virginiasriverrealm.com/wp-content/uploads/2026/01/SeineYouth-rotated.jpg
ORGANIZER;CN="Tackle Cove Outfitters":MAILTO:salestacklecove@gmail.com
END:VEVENT
END:VCALENDAR