BEGIN:VCALENDAR
VERSION:2.0
PRODID:-//Virginia&#039;s River Realm - ECPv6.15.20//NONSGML v1.0//EN
CALSCALE:GREGORIAN
METHOD:PUBLISH
X-WR-CALNAME:Virginia&#039;s River Realm
X-ORIGINAL-URL:https://www.virginiasriverrealm.com
X-WR-CALDESC:Events for Virginia&#039;s River Realm
REFRESH-INTERVAL;VALUE=DURATION:PT1H
X-Robots-Tag:noindex
X-PUBLISHED-TTL:PT1H
BEGIN:VTIMEZONE
TZID:America/New_York
BEGIN:DAYLIGHT
TZOFFSETFROM:-0500
TZOFFSETTO:-0400
TZNAME:EDT
DTSTART:20250309T070000
END:DAYLIGHT
BEGIN:STANDARD
TZOFFSETFROM:-0400
TZOFFSETTO:-0500
TZNAME:EST
DTSTART:20251102T060000
END:STANDARD
BEGIN:DAYLIGHT
TZOFFSETFROM:-0500
TZOFFSETTO:-0400
TZNAME:EDT
DTSTART:20260308T070000
END:DAYLIGHT
BEGIN:STANDARD
TZOFFSETFROM:-0400
TZOFFSETTO:-0500
TZNAME:EST
DTSTART:20261101T060000
END:STANDARD
BEGIN:DAYLIGHT
TZOFFSETFROM:-0500
TZOFFSETTO:-0400
TZNAME:EDT
DTSTART:20270314T070000
END:DAYLIGHT
BEGIN:STANDARD
TZOFFSETFROM:-0400
TZOFFSETTO:-0500
TZNAME:EST
DTSTART:20271107T060000
END:STANDARD
END:VTIMEZONE
BEGIN:VEVENT
DTSTART;TZID=America/New_York:20260303T140000
DTEND;TZID=America/New_York:20260324T160000
DTSTAMP:20260425T101103
CREATED:20260102T174746Z
LAST-MODIFIED:20260202T161826Z
UID:1362449-1772546400-1774368000@www.virginiasriverrealm.com
SUMMARY:Workshop: Gelli Plate Printing 101
DESCRIPTION:Join us for a “GELLI Plate Printing 101” Workshop March 3rd – 24th\, 2026 from 2 to 4PM at the Rappahannock Art Center.  Instructed by Gloria Clifford.  Cost of Class: $175 members; $195 nonmembers. \nUnleash your creativity in this fabulously fun BEGINNERS class that meets on four consecutive Tuesdays. Learn how to use a gelli plate and in this process\, you’ll create beautiful handmade prints that are one of a kind! In this FOUR SESSION workshop\, you’ll explore techniques creating final artworks or prints that can be turned into future projects such as within a collage\, card making\, personal art journal\, as unique gifts for those special people in your life and more! Experiment with acrylic paints\, handmade stencils\, and found objects and craft colorful\, layered designs that pop off the page! Perfect for beginners and seasoned artists alike. This class offers a fun\, relaxed environment to play with patterns where you are encouraged to express your very own unique style. No prior experience needed – just bring your imagination and come ready to make some pretty amazing art!
URL:https://www.virginiasriverrealm.com/ajde_event/workshop-gelli-plate-printing-101-3/
LOCATION:RAL Art Center\, 19 North Main Street\, Kilmarnock\, VA\, 22482\, United States
CATEGORIES:Art,Art Classes
ATTACH;FMTTYPE=image/avif:https://www.virginiasriverrealm.com/wp-content/uploads/2026/01/ad7e29_6f673692f99e4fdda4a711a257fcef07mv2.avif
GEO:37.7113661;-76.3807072
X-APPLE-STRUCTURED-LOCATION;VALUE=URI;X-ADDRESS=RAL Art Center 19 North Main Street Kilmarnock VA 22482 United States;X-APPLE-RADIUS=500;X-TITLE=19 North Main Street:geo:-76.3807072,37.7113661
END:VEVENT
END:VCALENDAR