BEGIN:VCALENDAR
VERSION:2.0
PRODID:-//Virginia&#039;s River Realm - ECPv6.15.20//NONSGML v1.0//EN
CALSCALE:GREGORIAN
METHOD:PUBLISH
X-WR-CALNAME:Virginia&#039;s River Realm
X-ORIGINAL-URL:https://www.virginiasriverrealm.com
X-WR-CALDESC:Events for Virginia&#039;s River Realm
REFRESH-INTERVAL;VALUE=DURATION:PT1H
X-Robots-Tag:noindex
X-PUBLISHED-TTL:PT1H
BEGIN:VTIMEZONE
TZID:America/New_York
BEGIN:DAYLIGHT
TZOFFSETFROM:-0500
TZOFFSETTO:-0400
TZNAME:EDT
DTSTART:20250309T070000
END:DAYLIGHT
BEGIN:STANDARD
TZOFFSETFROM:-0400
TZOFFSETTO:-0500
TZNAME:EST
DTSTART:20251102T060000
END:STANDARD
BEGIN:DAYLIGHT
TZOFFSETFROM:-0500
TZOFFSETTO:-0400
TZNAME:EDT
DTSTART:20260308T070000
END:DAYLIGHT
BEGIN:STANDARD
TZOFFSETFROM:-0400
TZOFFSETTO:-0500
TZNAME:EST
DTSTART:20261101T060000
END:STANDARD
BEGIN:DAYLIGHT
TZOFFSETFROM:-0500
TZOFFSETTO:-0400
TZNAME:EDT
DTSTART:20270314T070000
END:DAYLIGHT
BEGIN:STANDARD
TZOFFSETFROM:-0400
TZOFFSETTO:-0500
TZNAME:EST
DTSTART:20271107T060000
END:STANDARD
END:VTIMEZONE
BEGIN:VEVENT
DTSTART;TZID=America/New_York:20260301T140000
DTEND;TZID=America/New_York:20260301T150000
DTSTAMP:20260421T005639
CREATED:20260227T142104Z
LAST-MODIFIED:20260227T142104Z
UID:1363198-1772373600-1772377200@www.virginiasriverrealm.com
SUMMARY:Sundays at Two with Edward Correia!
DESCRIPTION:Join us on March 1st\, attorney Edward Correia will give a presentation entitled Constitutional Issues in Today’s America. This Washington\, D.C. attorney\, American University professor\, and published author will explore the Supreme Court’s approach to the Constitution on upcoming issues such as presidential power\, privacy\, government\, and religion. \nThe program also can be viewed on Facebook Live or later on the library’s YouTube channel.
URL:https://www.virginiasriverrealm.com/ajde_event/sundays-at-two-with-edward-correia/
LOCATION:Lancaster Community Library\, 16 Town Centre Drive\, Kilmarnock\, VA\, 22482\, United States
ATTACH;FMTTYPE=image/jpeg:https://www.virginiasriverrealm.com/wp-content/uploads/2026/02/69a0b9be68360.jpg
GEO:37.7138061;-76.3798065
X-APPLE-STRUCTURED-LOCATION;VALUE=URI;X-ADDRESS=Lancaster Community Library 16 Town Centre Drive Kilmarnock VA 22482 United States;X-APPLE-RADIUS=500;X-TITLE=16 Town Centre Drive:geo:-76.3798065,37.7138061
END:VEVENT
END:VCALENDAR