BEGIN:VCALENDAR
VERSION:2.0
PRODID:-//Virginia&#039;s River Realm - ECPv6.15.20//NONSGML v1.0//EN
CALSCALE:GREGORIAN
METHOD:PUBLISH
X-WR-CALNAME:Virginia&#039;s River Realm
X-ORIGINAL-URL:https://www.virginiasriverrealm.com
X-WR-CALDESC:Events for Virginia&#039;s River Realm
REFRESH-INTERVAL;VALUE=DURATION:PT1H
X-Robots-Tag:noindex
X-PUBLISHED-TTL:PT1H
BEGIN:VTIMEZONE
TZID:America/New_York
BEGIN:DAYLIGHT
TZOFFSETFROM:-0500
TZOFFSETTO:-0400
TZNAME:EDT
DTSTART:20250309T070000
END:DAYLIGHT
BEGIN:STANDARD
TZOFFSETFROM:-0400
TZOFFSETTO:-0500
TZNAME:EST
DTSTART:20251102T060000
END:STANDARD
BEGIN:DAYLIGHT
TZOFFSETFROM:-0500
TZOFFSETTO:-0400
TZNAME:EDT
DTSTART:20260308T070000
END:DAYLIGHT
BEGIN:STANDARD
TZOFFSETFROM:-0400
TZOFFSETTO:-0500
TZNAME:EST
DTSTART:20261101T060000
END:STANDARD
BEGIN:DAYLIGHT
TZOFFSETFROM:-0500
TZOFFSETTO:-0400
TZNAME:EDT
DTSTART:20270314T070000
END:DAYLIGHT
BEGIN:STANDARD
TZOFFSETFROM:-0400
TZOFFSETTO:-0500
TZNAME:EST
DTSTART:20271107T060000
END:STANDARD
END:VTIMEZONE
BEGIN:VEVENT
DTSTART;TZID=America/New_York:20260720T080000
DTEND;TZID=America/New_York:20260724T160000
DTSTAMP:20260422T080509
CREATED:20260413T171734Z
LAST-MODIFIED:20260421T123214Z
UID:10018600-1784534400-1784908800@www.virginiasriverrealm.com
SUMMARY:Stepping Out Horse Camp
DESCRIPTION:This is a camp for riders already comfortable with low level competition in the eventing disciplines looking to hone their skills. We will travel to compete on the weekend (venue tbd). This camp will include a few overnights and there will be room to bring and board your own critter.  More Information can be obtained on website.
URL:https://www.virginiasriverrealm.com/ajde_event/stepping-out/2026-07-20/
LOCATION:Heart’s Corner Farm\, 1341 Wake Road\, Wake\, VA\, 23176\, United States
CATEGORIES:Children,Older Children (10-13),Summer Camps,Teenagers (14+),Young Children (5-10)
ATTACH;FMTTYPE=image/webp:https://www.virginiasriverrealm.com/wp-content/uploads/2026/04/1f91030d-4cb2-4fa4-8e83-a0eb3d2fae32.webp
ORGANIZER;CN="Heart's Corner Farm":MAILTO:laura75gordon@gmail.com
GEO:37.5684178;-76.429494
X-APPLE-STRUCTURED-LOCATION;VALUE=URI;X-ADDRESS=Heart’s Corner Farm 1341 Wake Road Wake VA 23176 United States;X-APPLE-RADIUS=500;X-TITLE=1341 Wake Road:geo:-76.429494,37.5684178
END:VEVENT
END:VCALENDAR