BEGIN:VCALENDAR
VERSION:2.0
PRODID:-//Virginia&#039;s River Realm - ECPv6.15.20//NONSGML v1.0//EN
CALSCALE:GREGORIAN
METHOD:PUBLISH
X-WR-CALNAME:Virginia&#039;s River Realm
X-ORIGINAL-URL:https://www.virginiasriverrealm.com
X-WR-CALDESC:Events for Virginia&#039;s River Realm
REFRESH-INTERVAL;VALUE=DURATION:PT1H
X-Robots-Tag:noindex
X-PUBLISHED-TTL:PT1H
BEGIN:VTIMEZONE
TZID:America/New_York
BEGIN:DAYLIGHT
TZOFFSETFROM:-0500
TZOFFSETTO:-0400
TZNAME:EDT
DTSTART:20250309T070000
END:DAYLIGHT
BEGIN:STANDARD
TZOFFSETFROM:-0400
TZOFFSETTO:-0500
TZNAME:EST
DTSTART:20251102T060000
END:STANDARD
BEGIN:DAYLIGHT
TZOFFSETFROM:-0500
TZOFFSETTO:-0400
TZNAME:EDT
DTSTART:20260308T070000
END:DAYLIGHT
BEGIN:STANDARD
TZOFFSETFROM:-0400
TZOFFSETTO:-0500
TZNAME:EST
DTSTART:20261101T060000
END:STANDARD
BEGIN:DAYLIGHT
TZOFFSETFROM:-0500
TZOFFSETTO:-0400
TZNAME:EDT
DTSTART:20270314T070000
END:DAYLIGHT
BEGIN:STANDARD
TZOFFSETFROM:-0400
TZOFFSETTO:-0500
TZNAME:EST
DTSTART:20271107T060000
END:STANDARD
END:VTIMEZONE
BEGIN:VEVENT
DTSTART;TZID=America/New_York:20260330T090000
DTEND;TZID=America/New_York:20260403T160000
DTSTAMP:20260422T094103
CREATED:20260325T130853Z
LAST-MODIFIED:20260325T130924Z
UID:1363639-1774861200-1775232000@www.virginiasriverrealm.com
SUMMARY:Spring Break Kids Craft Camp!
DESCRIPTION:Join us for a morning(s) of creativity at Colorful Creations! Children will complete a hands-on craft project and take home something they made themselves.Dates Monday\, March 30th-April 3rd 9:00-12:00.Cost $50 per class.Click the link below or call 804-450-0600 to make your reservations.https://app.acuityscheduling.com/schedule.php…\nJoin us for an afternoon(s) of creativity at Colorful Creations!. Children will complete a hands-on craft project and take home something they made themselves.Dates Monday\, March 30th-April 3rd 1:00PM-4:00PM.Cost is $50 per craft class.Click the link below or call 804-450-0600 to make your reservations.https://app.acuityscheduling.com/schedule.php…\nChildren will complete hands-on craft projects and take home something they made themselves.All day sessions are 9:00AM-4:00PMCost is $85 per child\, per day or pay for a full week in advance and receive a $50 discount.Children staying the full day MUST BRING THEIR LUNCHCall 804-450-0600 to make your reservations.
URL:https://www.virginiasriverrealm.com/ajde_event/spring-break-kids-craft-camp/
LOCATION:Colorful Creations Arts and Crafts Studio\, 10880 General Puller Hwy\, Hartfield\, VA\, 23043\, United States
CATEGORIES:Art,Art Classes,Children
ATTACH;FMTTYPE=image/jpeg:https://www.virginiasriverrealm.com/wp-content/uploads/2026/03/659194889_3983776148587795_4184702843292766667_n.jpg
GEO:37.5547842;-76.3347951
X-APPLE-STRUCTURED-LOCATION;VALUE=URI;X-ADDRESS=Colorful Creations Arts and Crafts Studio 10880 General Puller Hwy Hartfield VA 23043 United States;X-APPLE-RADIUS=500;X-TITLE=10880 General Puller Hwy:geo:-76.3347951,37.5547842
END:VEVENT
END:VCALENDAR