BEGIN:VCALENDAR
VERSION:2.0
PRODID:-//Virginia&#039;s River Realm - ECPv6.15.20//NONSGML v1.0//EN
CALSCALE:GREGORIAN
METHOD:PUBLISH
X-WR-CALNAME:Virginia&#039;s River Realm
X-ORIGINAL-URL:https://www.virginiasriverrealm.com
X-WR-CALDESC:Events for Virginia&#039;s River Realm
REFRESH-INTERVAL;VALUE=DURATION:PT1H
X-Robots-Tag:noindex
X-PUBLISHED-TTL:PT1H
BEGIN:VTIMEZONE
TZID:America/New_York
BEGIN:DAYLIGHT
TZOFFSETFROM:-0500
TZOFFSETTO:-0400
TZNAME:EDT
DTSTART:20250309T070000
END:DAYLIGHT
BEGIN:STANDARD
TZOFFSETFROM:-0400
TZOFFSETTO:-0500
TZNAME:EST
DTSTART:20251102T060000
END:STANDARD
BEGIN:DAYLIGHT
TZOFFSETFROM:-0500
TZOFFSETTO:-0400
TZNAME:EDT
DTSTART:20260308T070000
END:DAYLIGHT
BEGIN:STANDARD
TZOFFSETFROM:-0400
TZOFFSETTO:-0500
TZNAME:EST
DTSTART:20261101T060000
END:STANDARD
BEGIN:DAYLIGHT
TZOFFSETFROM:-0500
TZOFFSETTO:-0400
TZNAME:EDT
DTSTART:20270314T070000
END:DAYLIGHT
BEGIN:STANDARD
TZOFFSETFROM:-0400
TZOFFSETTO:-0500
TZNAME:EST
DTSTART:20271107T060000
END:STANDARD
END:VTIMEZONE
BEGIN:VEVENT
DTSTART;TZID=America/New_York:20260321T100000
DTEND;TZID=America/New_York:20260321T160000
DTSTAMP:20260422T114954
CREATED:20260224T155040Z
LAST-MODIFIED:20260224T155040Z
UID:10017811-1774087200-1774108800@www.virginiasriverrealm.com
SUMMARY:Silversmith Saturday
DESCRIPTION:Join us at 26 North Arts & Crafts for Silversmith Saturday\, March 7th and 21st from 10 – 4PM.  We will have spoon ring and bangle making!  Call 804-577-4204 to reserve your time today!
URL:https://www.virginiasriverrealm.com/ajde_event/silversmith-saturday/2026-03-21/
LOCATION:36 North Arts & Crafts\, 36 N. Main Street\, Kilmarnock\, VA\, 22482\, United States
CATEGORIES:Art,Art Classes
ATTACH;FMTTYPE=image/jpeg:https://www.virginiasriverrealm.com/wp-content/uploads/2026/02/637962271_122165667806878143_3073374402232729232_n.jpg
ORGANIZER;CN="36 North Arts & Crafts":MAILTO:information@36Northart.com
GEO:37.7116635;-76.3803914
X-APPLE-STRUCTURED-LOCATION;VALUE=URI;X-ADDRESS=36 North Arts & Crafts 36 N. Main Street Kilmarnock VA 22482 United States;X-APPLE-RADIUS=500;X-TITLE=36 N. Main Street:geo:-76.3803914,37.7116635
END:VEVENT
END:VCALENDAR