BEGIN:VCALENDAR
VERSION:2.0
PRODID:-//Virginia&#039;s River Realm - ECPv6.15.20//NONSGML v1.0//EN
CALSCALE:GREGORIAN
METHOD:PUBLISH
X-WR-CALNAME:Virginia&#039;s River Realm
X-ORIGINAL-URL:https://www.virginiasriverrealm.com
X-WR-CALDESC:Events for Virginia&#039;s River Realm
REFRESH-INTERVAL;VALUE=DURATION:PT1H
X-Robots-Tag:noindex
X-PUBLISHED-TTL:PT1H
BEGIN:VTIMEZONE
TZID:America/New_York
BEGIN:DAYLIGHT
TZOFFSETFROM:-0500
TZOFFSETTO:-0400
TZNAME:EDT
DTSTART:20250309T070000
END:DAYLIGHT
BEGIN:STANDARD
TZOFFSETFROM:-0400
TZOFFSETTO:-0500
TZNAME:EST
DTSTART:20251102T060000
END:STANDARD
BEGIN:DAYLIGHT
TZOFFSETFROM:-0500
TZOFFSETTO:-0400
TZNAME:EDT
DTSTART:20260308T070000
END:DAYLIGHT
BEGIN:STANDARD
TZOFFSETFROM:-0400
TZOFFSETTO:-0500
TZNAME:EST
DTSTART:20261101T060000
END:STANDARD
BEGIN:DAYLIGHT
TZOFFSETFROM:-0500
TZOFFSETTO:-0400
TZNAME:EDT
DTSTART:20270314T070000
END:DAYLIGHT
BEGIN:STANDARD
TZOFFSETFROM:-0400
TZOFFSETTO:-0500
TZNAME:EST
DTSTART:20271107T060000
END:STANDARD
END:VTIMEZONE
BEGIN:VEVENT
DTSTART;TZID=America/New_York:20260516T180000
DTEND;TZID=America/New_York:20260516T203000
DTSTAMP:20260422T094028
CREATED:20260420T171325Z
LAST-MODIFIED:20260420T171325Z
UID:1363996-1778954400-1778963400@www.virginiasriverrealm.com
SUMMARY:Petals\, Pastures & Tea
DESCRIPTION:You’re Invited to an Enchanting Evening on the Farm… \n\n\nStep into golden hour and experience the beauty\, peace\, and charm of farm life at:\n\n\nPetals\, Pastures & Tea\nAn Enchanting Farm Experience\n\n\n Saturday\, May 16\n 6:00 – 8:30 PM\n Thru God’s Grace Farm – Saluda\, Va\n\n\nJoin us for a night designed to slow you down\, pamper your soul\, and create unforgettable memories…\n\n\n Sip a selection of teas with light bites & pastries\n Create your own fresh floral bouquet\n\n Enjoy baby snuggle time with goats\, lambs & more\n Capture stunning photos with our horse and/or Highland cows\n Professional photographer on-site\n A special gift for every guest\n\n\n Come dressed in your high tea best\nFlowy dresses\, florals\, and soft\, elegant styles are encouraged \n\n\nThis is more than an event…\nIt’s a moment to breathe\, gather\, and soak in the beauty of the farm at sunset.\n\n\n Very Limited seating available – don’t wait to reserve your spot!
URL:https://www.virginiasriverrealm.com/ajde_event/petals-pastures-tea/
LOCATION:Thru God’s Grace Farm\, 4291 Soles Lane\, Saluda\, VA\, 23149\, United States
CATEGORIES:Children
ATTACH;FMTTYPE=image/jpeg:https://www.virginiasriverrealm.com/wp-content/uploads/2026/04/673856002_2214071046091513_3089032190503603574_n.jpg
ORGANIZER;CN="Thru God's Grace Farm":MAILTO:info@thrugodsgracefarm.com
GEO:37.5746785;-76.6012182
X-APPLE-STRUCTURED-LOCATION;VALUE=URI;X-ADDRESS=Thru God’s Grace Farm 4291 Soles Lane Saluda VA 23149 United States;X-APPLE-RADIUS=500;X-TITLE=4291 Soles Lane:geo:-76.6012182,37.5746785
END:VEVENT
END:VCALENDAR