BEGIN:VCALENDAR
VERSION:2.0
PRODID:-//Virginia&#039;s River Realm - ECPv6.15.20//NONSGML v1.0//EN
CALSCALE:GREGORIAN
METHOD:PUBLISH
X-WR-CALNAME:Virginia&#039;s River Realm
X-ORIGINAL-URL:https://www.virginiasriverrealm.com
X-WR-CALDESC:Events for Virginia&#039;s River Realm
REFRESH-INTERVAL;VALUE=DURATION:PT1H
X-Robots-Tag:noindex
X-PUBLISHED-TTL:PT1H
BEGIN:VTIMEZONE
TZID:America/New_York
BEGIN:DAYLIGHT
TZOFFSETFROM:-0500
TZOFFSETTO:-0400
TZNAME:EDT
DTSTART:20250309T070000
END:DAYLIGHT
BEGIN:STANDARD
TZOFFSETFROM:-0400
TZOFFSETTO:-0500
TZNAME:EST
DTSTART:20251102T060000
END:STANDARD
BEGIN:DAYLIGHT
TZOFFSETFROM:-0500
TZOFFSETTO:-0400
TZNAME:EDT
DTSTART:20260308T070000
END:DAYLIGHT
BEGIN:STANDARD
TZOFFSETFROM:-0400
TZOFFSETTO:-0500
TZNAME:EST
DTSTART:20261101T060000
END:STANDARD
BEGIN:DAYLIGHT
TZOFFSETFROM:-0500
TZOFFSETTO:-0400
TZNAME:EDT
DTSTART:20270314T070000
END:DAYLIGHT
BEGIN:STANDARD
TZOFFSETFROM:-0400
TZOFFSETTO:-0500
TZNAME:EST
DTSTART:20271107T060000
END:STANDARD
END:VTIMEZONE
BEGIN:VEVENT
DTSTART;TZID=America/New_York:20260726T150000
DTEND;TZID=America/New_York:20260729T130000
DTSTAMP:20260421T143437
CREATED:20260414T200937Z
LAST-MODIFIED:20260420T182633Z
UID:10018612-1785078000-1785330000@www.virginiasriverrealm.com
SUMMARY:Minnow Camp (formerly Mini Camp)
DESCRIPTION:Minnow Camp (formerly Mini Camp) A half-week mini adventure for ages 6-10. Enjoy many of our traditional camp activities for a two night “beginner” experience.June 28-30 or July 26-28Cost is $250
URL:https://www.virginiasriverrealm.com/ajde_event/minnow-camp-formerly-mini-camp/2026-07-26/
LOCATION:Camp Piankatank\, 1586 Stampers Bay Road\, Hartfield\, VA\, 23072\, United States
CATEGORIES:Children,Summer Camps,Young Children (5-10)
ATTACH;FMTTYPE=image/avif:https://www.virginiasriverrealm.com/wp-content/uploads/2026/04/6f1b2d_b43cdf2ddd99441ebde8e5bded89f1d7mv2.avif
GEO:37.5320169;-76.4357512
X-APPLE-STRUCTURED-LOCATION;VALUE=URI;X-ADDRESS=Camp Piankatank 1586 Stampers Bay Road Hartfield VA 23072 United States;X-APPLE-RADIUS=500;X-TITLE=1586 Stampers Bay Road:geo:-76.4357512,37.5320169
END:VEVENT
END:VCALENDAR