BEGIN:VCALENDAR
VERSION:2.0
PRODID:-//Virginia&#039;s River Realm - ECPv6.15.20//NONSGML v1.0//EN
CALSCALE:GREGORIAN
METHOD:PUBLISH
X-WR-CALNAME:Virginia&#039;s River Realm
X-ORIGINAL-URL:https://www.virginiasriverrealm.com
X-WR-CALDESC:Events for Virginia&#039;s River Realm
REFRESH-INTERVAL;VALUE=DURATION:PT1H
X-Robots-Tag:noindex
X-PUBLISHED-TTL:PT1H
BEGIN:VTIMEZONE
TZID:America/New_York
BEGIN:DAYLIGHT
TZOFFSETFROM:-0500
TZOFFSETTO:-0400
TZNAME:EDT
DTSTART:20250309T070000
END:DAYLIGHT
BEGIN:STANDARD
TZOFFSETFROM:-0400
TZOFFSETTO:-0500
TZNAME:EST
DTSTART:20251102T060000
END:STANDARD
BEGIN:DAYLIGHT
TZOFFSETFROM:-0500
TZOFFSETTO:-0400
TZNAME:EDT
DTSTART:20260308T070000
END:DAYLIGHT
BEGIN:STANDARD
TZOFFSETFROM:-0400
TZOFFSETTO:-0500
TZNAME:EST
DTSTART:20261101T060000
END:STANDARD
BEGIN:DAYLIGHT
TZOFFSETFROM:-0500
TZOFFSETTO:-0400
TZNAME:EDT
DTSTART:20270314T070000
END:DAYLIGHT
BEGIN:STANDARD
TZOFFSETFROM:-0400
TZOFFSETTO:-0500
TZNAME:EST
DTSTART:20271107T060000
END:STANDARD
END:VTIMEZONE
BEGIN:VEVENT
DTSTART;TZID=America/New_York:20260622T130000
DTEND;TZID=America/New_York:20260626T160000
DTSTAMP:20260425T082733
CREATED:20260224T172402Z
LAST-MODIFIED:20260421T124255Z
UID:1363122-1782133200-1782489600@www.virginiasriverrealm.com
SUMMARY:Let's Create a Town Mural Art Camp: Ages 12-18
DESCRIPTION:Artist/Instructor: Bob Casazza\nLocation: RAL Art Center – The Pike Studio\nDate: June 22 – June 26\, 2026\nTime: 1:00 pm – 4:00 pm\nCost: $110 Members; $130 Non-members\nAges: 12-18
URL:https://www.virginiasriverrealm.com/ajde_event/lets-create-a-town-mural-ages-12-18/
LOCATION:RAL Art Center\, 19 North Main Street\, Kilmarnock\, VA\, 22482\, United States
CATEGORIES:Art,Art Classes,Children,Older Children (10-13),Teenagers (14+)
ATTACH;FMTTYPE=image/jpeg:https://www.virginiasriverrealm.com/wp-content/uploads/2026/02/640651098_1553083353383394_3002781347643106002_n.jpg
GEO:37.7113661;-76.3807072
X-APPLE-STRUCTURED-LOCATION;VALUE=URI;X-ADDRESS=RAL Art Center 19 North Main Street Kilmarnock VA 22482 United States;X-APPLE-RADIUS=500;X-TITLE=19 North Main Street:geo:-76.3807072,37.7113661
END:VEVENT
END:VCALENDAR