BEGIN:VCALENDAR
VERSION:2.0
PRODID:-//Virginia&#039;s River Realm - ECPv6.15.20//NONSGML v1.0//EN
CALSCALE:GREGORIAN
METHOD:PUBLISH
X-WR-CALNAME:Virginia&#039;s River Realm
X-ORIGINAL-URL:https://www.virginiasriverrealm.com
X-WR-CALDESC:Events for Virginia&#039;s River Realm
REFRESH-INTERVAL;VALUE=DURATION:PT1H
X-Robots-Tag:noindex
X-PUBLISHED-TTL:PT1H
BEGIN:VTIMEZONE
TZID:America/New_York
BEGIN:DAYLIGHT
TZOFFSETFROM:-0500
TZOFFSETTO:-0400
TZNAME:EDT
DTSTART:20250309T070000
END:DAYLIGHT
BEGIN:STANDARD
TZOFFSETFROM:-0400
TZOFFSETTO:-0500
TZNAME:EST
DTSTART:20251102T060000
END:STANDARD
BEGIN:DAYLIGHT
TZOFFSETFROM:-0500
TZOFFSETTO:-0400
TZNAME:EDT
DTSTART:20260308T070000
END:DAYLIGHT
BEGIN:STANDARD
TZOFFSETFROM:-0400
TZOFFSETTO:-0500
TZNAME:EST
DTSTART:20261101T060000
END:STANDARD
BEGIN:DAYLIGHT
TZOFFSETFROM:-0500
TZOFFSETTO:-0400
TZNAME:EDT
DTSTART:20270314T070000
END:DAYLIGHT
BEGIN:STANDARD
TZOFFSETFROM:-0400
TZOFFSETTO:-0500
TZNAME:EST
DTSTART:20271107T060000
END:STANDARD
END:VTIMEZONE
BEGIN:VEVENT
DTSTART;TZID=America/New_York:20260404T130000
DTEND;TZID=America/New_York:20260404T160000
DTSTAMP:20260420T181743
CREATED:20260325T134913Z
LAST-MODIFIED:20260325T134950Z
UID:1363645-1775307600-1775318400@www.virginiasriverrealm.com
SUMMARY:Easter at The Tiki Bar
DESCRIPTION:Join us opening weekend for Easter at the Tiki Bar on Saturday\, April 4th\, 2026 from 1 – 4PM.  Easter Egg Hunt starts at 2PM.  Fun for the kids & enjoy a fun day by the water!
URL:https://www.virginiasriverrealm.com/ajde_event/easter-at-the-tiki-bar/
LOCATION:Tiki Windmill\, 40 Windjammer Lane\, White Stone\, VA\, 22578\, United States
CATEGORIES:Children,On the Water,Outdoors
ATTACH;FMTTYPE=image/jpeg:https://www.virginiasriverrealm.com/wp-content/uploads/2026/03/655971597_1504554604800268_4707162503289840001_n.jpg
GEO:37.6159637;-76.2920547
X-APPLE-STRUCTURED-LOCATION;VALUE=URI;X-ADDRESS=Tiki Windmill 40 Windjammer Lane White Stone VA 22578 United States;X-APPLE-RADIUS=500;X-TITLE=40 Windjammer Lane:geo:-76.2920547,37.6159637
END:VEVENT
END:VCALENDAR