BEGIN:VCALENDAR
VERSION:2.0
PRODID:-//Virginia&#039;s River Realm - ECPv6.15.18//NONSGML v1.0//EN
CALSCALE:GREGORIAN
METHOD:PUBLISH
X-WR-CALNAME:Virginia&#039;s River Realm
X-ORIGINAL-URL:https://www.virginiasriverrealm.com
X-WR-CALDESC:Events for Virginia&#039;s River Realm
REFRESH-INTERVAL;VALUE=DURATION:PT1H
X-Robots-Tag:noindex
X-PUBLISHED-TTL:PT1H
BEGIN:VTIMEZONE
TZID:America/New_York
BEGIN:DAYLIGHT
TZOFFSETFROM:-0500
TZOFFSETTO:-0400
TZNAME:EDT
DTSTART:20250309T070000
END:DAYLIGHT
BEGIN:STANDARD
TZOFFSETFROM:-0400
TZOFFSETTO:-0500
TZNAME:EST
DTSTART:20251102T060000
END:STANDARD
BEGIN:DAYLIGHT
TZOFFSETFROM:-0500
TZOFFSETTO:-0400
TZNAME:EDT
DTSTART:20260308T070000
END:DAYLIGHT
BEGIN:STANDARD
TZOFFSETFROM:-0400
TZOFFSETTO:-0500
TZNAME:EST
DTSTART:20261101T060000
END:STANDARD
BEGIN:DAYLIGHT
TZOFFSETFROM:-0500
TZOFFSETTO:-0400
TZNAME:EDT
DTSTART:20270314T070000
END:DAYLIGHT
BEGIN:STANDARD
TZOFFSETFROM:-0400
TZOFFSETTO:-0500
TZNAME:EST
DTSTART:20271107T060000
END:STANDARD
END:VTIMEZONE
BEGIN:VEVENT
DTSTART;TZID=America/New_York:20260701T150000
DTEND;TZID=America/New_York:20260703T130000
DTSTAMP:20260420T110110
CREATED:20260414T201242Z
LAST-MODIFIED:20260414T201242Z
UID:10018615-1782918000-1783083600@www.virginiasriverrealm.com
SUMMARY:Camp Together (Parent/Child Camp)
DESCRIPTION:Camp Together \nParent/Child Camp for children ages 6-16\, with their parent.July 1-3 or July 29-31Cost is $250 per person
URL:https://www.virginiasriverrealm.com/ajde_event/camp-together-parent-child-camp/2026-07-01/
LOCATION:Camp Piankatank\, 1586 Stampers Bay Road\, Hartfield\, VA\, 23072\, United States
CATEGORIES:Children,Older Children (10-13),Teenagers (14+),Young Children (5-10)
ATTACH;FMTTYPE=image/avif:https://www.virginiasriverrealm.com/wp-content/uploads/2026/04/6f1b2d_b43cdf2ddd99441ebde8e5bded89f1d7mv2.avif
GEO:37.5320169;-76.4357512
X-APPLE-STRUCTURED-LOCATION;VALUE=URI;X-ADDRESS=Camp Piankatank 1586 Stampers Bay Road Hartfield VA 23072 United States;X-APPLE-RADIUS=500;X-TITLE=1586 Stampers Bay Road:geo:-76.4357512,37.5320169
END:VEVENT
END:VCALENDAR