BEGIN:VCALENDAR
VERSION:2.0
PRODID:-//Virginia&#039;s River Realm - ECPv6.15.18//NONSGML v1.0//EN
CALSCALE:GREGORIAN
METHOD:PUBLISH
X-WR-CALNAME:Virginia&#039;s River Realm
X-ORIGINAL-URL:https://www.virginiasriverrealm.com
X-WR-CALDESC:Events for Virginia&#039;s River Realm
REFRESH-INTERVAL;VALUE=DURATION:PT1H
X-Robots-Tag:noindex
X-PUBLISHED-TTL:PT1H
BEGIN:VTIMEZONE
TZID:America/New_York
BEGIN:DAYLIGHT
TZOFFSETFROM:-0500
TZOFFSETTO:-0400
TZNAME:EDT
DTSTART:20250309T070000
END:DAYLIGHT
BEGIN:STANDARD
TZOFFSETFROM:-0400
TZOFFSETTO:-0500
TZNAME:EST
DTSTART:20251102T060000
END:STANDARD
BEGIN:DAYLIGHT
TZOFFSETFROM:-0500
TZOFFSETTO:-0400
TZNAME:EDT
DTSTART:20260308T070000
END:DAYLIGHT
BEGIN:STANDARD
TZOFFSETFROM:-0400
TZOFFSETTO:-0500
TZNAME:EST
DTSTART:20261101T060000
END:STANDARD
BEGIN:DAYLIGHT
TZOFFSETFROM:-0500
TZOFFSETTO:-0400
TZNAME:EDT
DTSTART:20270314T070000
END:DAYLIGHT
BEGIN:STANDARD
TZOFFSETFROM:-0400
TZOFFSETTO:-0500
TZNAME:EST
DTSTART:20271107T060000
END:STANDARD
END:VTIMEZONE
BEGIN:VEVENT
DTSTART;TZID=America/New_York:20260404T180000
DTEND;TZID=America/New_York:20260407T200000
DTSTAMP:20260419T135836
CREATED:20260130T154629Z
LAST-MODIFIED:20260130T154629Z
UID:1362775-1775325600-1775592000@www.virginiasriverrealm.com
SUMMARY:Booked for Dinner Supper Club: Crave\, Cook\, Nourish
DESCRIPTION:Join us for our most popular event — our beloved Potluck Supper Club!\nThis April\, we’re diving into by Steph Grasso\, a Virginia author! \nDevelop a healthier\, happier relationship with food by tapping into these 80-plus nourishing recipes with zero intimidation factor from dietitian\, nutrition expert\, and TikTok sensation Steph Grasso Dietitian. \nThe internet is filled with diet fads and nutrition misinformation\, and registered dietitian Steph Grasso is here to steer you clear of all of it. In her debut cookbook and nutrition go-to\, Steph debunks diet culture and offers up fun and easy ways to make healthy\, accessible\, and affordable food choices. Crave\, Cook\, Nourish subscribes to the notion that all bites are good bites when balanced: Why restrict your favorite foods when you can simply add more nutrients to your plate? Steph lays out the basic building blocks of nutrition so you can make healthful choices with ease. \nStarting with a brief history of diet culture\, Crave\, Cook\, Nourish is packed with tips and hacks to make grocery shopping and meal prep feel like second nature. Whether you have a super busy schedule or limited funds\, Steph is here to show you how to make easy and attainable healthy lifestyle choices in your own kitchen. \nLife is hard\, and Steph believes that eating a tasty\, balanced meal and feeling your best absolutely should not be.
URL:https://www.virginiasriverrealm.com/ajde_event/booked-for-dinner-supper-club-crave-cook-nourish/
LOCATION:The Bookshelf on Church\, West Church Street\, Kilmarnock\, VA\, 22482\, United States
CATEGORIES:Wellness
ATTACH;FMTTYPE=image/png:https://www.virginiasriverrealm.com/wp-content/uploads/2026/01/Booked-for-Dinner.png
GEO:37.7105637;-76.3817717
X-APPLE-STRUCTURED-LOCATION;VALUE=URI;X-ADDRESS=The Bookshelf on Church West Church Street Kilmarnock VA 22482 United States;X-APPLE-RADIUS=500;X-TITLE=West Church Street:geo:-76.3817717,37.7105637
END:VEVENT
END:VCALENDAR