BEGIN:VCALENDAR
VERSION:2.0
PRODID:-//Virginia&#039;s River Realm - ECPv6.15.18//NONSGML v1.0//EN
CALSCALE:GREGORIAN
METHOD:PUBLISH
X-WR-CALNAME:Virginia&#039;s River Realm
X-ORIGINAL-URL:https://www.virginiasriverrealm.com
X-WR-CALDESC:Events for Virginia&#039;s River Realm
REFRESH-INTERVAL;VALUE=DURATION:PT1H
X-Robots-Tag:noindex
X-PUBLISHED-TTL:PT1H
BEGIN:VTIMEZONE
TZID:America/New_York
BEGIN:DAYLIGHT
TZOFFSETFROM:-0500
TZOFFSETTO:-0400
TZNAME:EDT
DTSTART:20250309T070000
END:DAYLIGHT
BEGIN:STANDARD
TZOFFSETFROM:-0400
TZOFFSETTO:-0500
TZNAME:EST
DTSTART:20251102T060000
END:STANDARD
BEGIN:DAYLIGHT
TZOFFSETFROM:-0500
TZOFFSETTO:-0400
TZNAME:EDT
DTSTART:20260308T070000
END:DAYLIGHT
BEGIN:STANDARD
TZOFFSETFROM:-0400
TZOFFSETTO:-0500
TZNAME:EST
DTSTART:20261101T060000
END:STANDARD
BEGIN:DAYLIGHT
TZOFFSETFROM:-0500
TZOFFSETTO:-0400
TZNAME:EDT
DTSTART:20270314T070000
END:DAYLIGHT
BEGIN:STANDARD
TZOFFSETFROM:-0400
TZOFFSETTO:-0500
TZNAME:EST
DTSTART:20271107T060000
END:STANDARD
END:VTIMEZONE
BEGIN:VEVENT
DTSTART;TZID=America/New_York:20260622T080000
DTEND;TZID=America/New_York:20260626T170000
DTSTAMP:20260420T055609
CREATED:20260414T201816Z
LAST-MODIFIED:20260416T131518Z
UID:10018617-1782115200-1782493200@www.virginiasriverrealm.com
SUMMARY:Day Camp
DESCRIPTION:The Day Camp program at Camp Piankatank is a unique opportunity to provide your child with an outdoor experience like nothing else. Day campers will have an opportunity to swim each day\, experience some of our exciting activities\, participate in an age-appropriate Bible Study\, and so much more. Some of the activities offered are the climbing wall\, canoeing and exploring the island\, v-swing\, and lots of fun games. \nAges: 6-10 \nWe occasionally make exceptions for 5-year-olds. IF they have completed kindergarten\, can use the bathroom independently\, and can change clothes independently. Please call for this exception and instructions for registering. We do not accept 11 year olds for day camp. \nDrop-Off: 7:45-8:15am; Pick-up: 4:45pm-5:15pm \n​Dates:\nPiankatank Pals 1: Monday\, June 22\, 2026 to Friday\, June 26\, 2026\nPiankatank Pals 2: Monday June 29\, 2026 to Friday\, July 3\, 2026\nPiankatank Pals 3: Monday\, July 13\, 2026 to Friday\, July 17\, 2026\nPiankatank Pals 4: Monday\, July 20\, 2026 to Friday\, July 24\, 2026\nPiankatank Pals 5: Monday\, July 27\, 2026 to Friday\, July 31\, 2026\nPiankatank Pals 6: Monday\, August 3\, 2026 to Friday\, August 7\, 2026 \nCost: $250\, INCLUDES LUNCH
URL:https://www.virginiasriverrealm.com/ajde_event/1363904/2026-06-22/
LOCATION:Camp Piankatank\, 1586 Stampers Bay Road\, Hartfield\, VA\, 23072\, United States
CATEGORIES:Children,Young Children (5-10)
ATTACH;FMTTYPE=image/avif:https://www.virginiasriverrealm.com/wp-content/uploads/2026/04/6f1b2d_3dc0d964822948e48fac00521e5d2b40mv2.avif
GEO:37.5320169;-76.4357512
X-APPLE-STRUCTURED-LOCATION;VALUE=URI;X-ADDRESS=Camp Piankatank 1586 Stampers Bay Road Hartfield VA 23072 United States;X-APPLE-RADIUS=500;X-TITLE=1586 Stampers Bay Road:geo:-76.4357512,37.5320169
END:VEVENT
END:VCALENDAR